BEGIN:VCALENDAR
VERSION:2.0
PRODID:-//CommUNITY SJP - ECPv6.15.20//NONSGML v1.0//EN
CALSCALE:GREGORIAN
METHOD:PUBLISH
X-WR-CALNAME:CommUNITY SJP
X-ORIGINAL-URL:https://communitysjp.org
X-WR-CALDESC:Events for CommUNITY SJP
REFRESH-INTERVAL;VALUE=DURATION:PT1H
X-Robots-Tag:noindex
X-PUBLISHED-TTL:PT1H
BEGIN:VTIMEZONE
TZID:America/New_York
BEGIN:DAYLIGHT
TZOFFSETFROM:-0500
TZOFFSETTO:-0400
TZNAME:EDT
DTSTART:20160313T070000
END:DAYLIGHT
BEGIN:STANDARD
TZOFFSETFROM:-0400
TZOFFSETTO:-0500
TZNAME:EST
DTSTART:20161106T060000
END:STANDARD
BEGIN:DAYLIGHT
TZOFFSETFROM:-0500
TZOFFSETTO:-0400
TZNAME:EDT
DTSTART:20170312T070000
END:DAYLIGHT
BEGIN:STANDARD
TZOFFSETFROM:-0400
TZOFFSETTO:-0500
TZNAME:EST
DTSTART:20171105T060000
END:STANDARD
BEGIN:DAYLIGHT
TZOFFSETFROM:-0500
TZOFFSETTO:-0400
TZNAME:EDT
DTSTART:20180311T070000
END:DAYLIGHT
BEGIN:STANDARD
TZOFFSETFROM:-0400
TZOFFSETTO:-0500
TZNAME:EST
DTSTART:20181104T060000
END:STANDARD
BEGIN:DAYLIGHT
TZOFFSETFROM:-0500
TZOFFSETTO:-0400
TZNAME:EDT
DTSTART:20190310T070000
END:DAYLIGHT
BEGIN:STANDARD
TZOFFSETFROM:-0400
TZOFFSETTO:-0500
TZNAME:EST
DTSTART:20191103T060000
END:STANDARD
BEGIN:DAYLIGHT
TZOFFSETFROM:-0500
TZOFFSETTO:-0400
TZNAME:EDT
DTSTART:20200308T070000
END:DAYLIGHT
BEGIN:STANDARD
TZOFFSETFROM:-0400
TZOFFSETTO:-0500
TZNAME:EST
DTSTART:20201101T060000
END:STANDARD
BEGIN:DAYLIGHT
TZOFFSETFROM:-0500
TZOFFSETTO:-0400
TZNAME:EDT
DTSTART:20210314T070000
END:DAYLIGHT
BEGIN:STANDARD
TZOFFSETFROM:-0400
TZOFFSETTO:-0500
TZNAME:EST
DTSTART:20211107T060000
END:STANDARD
BEGIN:DAYLIGHT
TZOFFSETFROM:-0500
TZOFFSETTO:-0400
TZNAME:EDT
DTSTART:20220313T070000
END:DAYLIGHT
BEGIN:STANDARD
TZOFFSETFROM:-0400
TZOFFSETTO:-0500
TZNAME:EST
DTSTART:20221106T060000
END:STANDARD
BEGIN:DAYLIGHT
TZOFFSETFROM:-0500
TZOFFSETTO:-0400
TZNAME:EDT
DTSTART:20230312T070000
END:DAYLIGHT
BEGIN:STANDARD
TZOFFSETFROM:-0400
TZOFFSETTO:-0500
TZNAME:EST
DTSTART:20231105T060000
END:STANDARD
BEGIN:DAYLIGHT
TZOFFSETFROM:-0500
TZOFFSETTO:-0400
TZNAME:EDT
DTSTART:20240310T070000
END:DAYLIGHT
BEGIN:STANDARD
TZOFFSETFROM:-0400
TZOFFSETTO:-0500
TZNAME:EST
DTSTART:20241103T060000
END:STANDARD
BEGIN:DAYLIGHT
TZOFFSETFROM:-0500
TZOFFSETTO:-0400
TZNAME:EDT
DTSTART:20250309T070000
END:DAYLIGHT
BEGIN:STANDARD
TZOFFSETFROM:-0400
TZOFFSETTO:-0500
TZNAME:EST
DTSTART:20251102T060000
END:STANDARD
END:VTIMEZONE
BEGIN:VEVENT
DTSTART;TZID=America/New_York:20241005T130000
DTEND;TZID=America/New_York:20241005T160000
DTSTAMP:20260424T135711
CREATED:20240802T034237Z
LAST-MODIFIED:20240927T230307Z
UID:10000234-1728133200-1728144000@communitysjp.org
SUMMARY:Fall Festival
DESCRIPTION:After a few year hiatus\, we are excited to bring back our fall festival! 8 years have flown by – COMMUNITY SJP is thankful for its growing amount of members and dedicated volunteers since its inception in November 2016.  \nThe event is free to attend\, but please register below so we can plan accordingly. \nIf you would like to volunteer at this event\, please sign up today. We will provide service hours to all volunteers! \n  \nWe have a lot of exciting things planned for this event. Stay tuned for updates as the event nears! \n\nCalligraphy with Salih\nFace Painting\nDonut eating contest\nLawn games\nA taste of some community service activities\nVolleyball contest – form a team today!\nFood Trucks/Vendors\nJewelry/Clothing Vendors\nBake Sale\nAnd More!\n\nPlease bring a non-perishable item to be donated to a food pantry\, and unexpired\, packaged candy. New toy donations and new pairs of socks are also welcome! \nAs you know\, our events are 100% volunteer driven and we fully rely on our generous donors to make our events possible. Please consider making a donation towards the items purchased for our events. \nWays to Donate: Zelle (preferred): communitysjp@gmail.com\, Venmo\, PayPal\, Credit Card\, Cash or check payable to CommUNITYSJP \nPlease fill out our Waiver & Release of Liability to attend this event. We will also have copies to sign at the door. \n\n	Notice: JavaScript is required for this content.
URL:https://communitysjp.org/event/2024-fall-festival/
LOCATION:Laurel House\, 562 Walton Avenue\, Mount Laurel\, NJ\, 08054\, United States
CATEGORIES:Care Packages,CommUNITY Socials,Family Night,Fundraising,Info Booth,Other Projects
GEO:39.9500627;-74.8852648
X-APPLE-STRUCTURED-LOCATION;VALUE=URI;X-ADDRESS=Laurel House 562 Walton Avenue Mount Laurel NJ 08054 United States;X-APPLE-RADIUS=500;X-TITLE=562 Walton Avenue:geo:-74.8852648,39.9500627
END:VEVENT
BEGIN:VEVENT
DTSTART;TZID=America/New_York:20221119T100000
DTEND;TZID=America/New_York:20221119T140000
DTSTAMP:20260424T135711
CREATED:20220929T021957Z
LAST-MODIFIED:20220929T022719Z
UID:10000151-1668852000-1668866400@communitysjp.org
SUMMARY:CSJP Family Volunteer Day
DESCRIPTION:On November 19\, 2022\, we will celebrate Family Volunteer Day\, a global day of service that celebrates the power of families who work together to support their communities and neighbors. Join us at Moorestown Mall’s food court from 10am to 2pm.\n \nThis year\, the needs are greater than ever before. And though volunteering may look different\, there are still so many ways to give back. Take time out with your family this season to help others\, and make a positive mark on the world. We hope you will come out to learn about local nonprofit organizations and how you can get involved. Please stop by the CSJP table to stuff a sock and tie a knot in a no sew fleece blanket!\n \nWe will also be collecting the following items:\n\nLeftover Halloween Candy\nNew Towels\nNew Washcloths\nNew Socks\nNew Underwear (adult men and women)
URL:https://communitysjp.org/event/csjpfamilyvolunteerday-202211/
LOCATION:Moorestown Mall\, 400 NJ-38\,\, Moorestown\, NJ\, 08057\, United States
CATEGORIES:Care Packages,Info Booth
GEO:39.9461119;-74.9611075
X-APPLE-STRUCTURED-LOCATION;VALUE=URI;X-ADDRESS=Moorestown Mall 400 NJ-38 Moorestown NJ 08057 United States;X-APPLE-RADIUS=500;X-TITLE=400 NJ-38\,:geo:-74.9611075,39.9461119
END:VEVENT
BEGIN:VEVENT
DTSTART;TZID=America/New_York:20211120T100000
DTEND;TZID=America/New_York:20211120T140000
DTSTAMP:20260424T135711
CREATED:20211223T031513Z
LAST-MODIFIED:20211223T031513Z
UID:10000144-1637402400-1637416800@communitysjp.org
SUMMARY:CSJP Family Volunteer Day
DESCRIPTION:On Nov. 20\, 2021\, we’ll celebrate Family Volunteer Day\, a global day of service that celebrates the power of families who work together to support their communities and neighbors. Join us at Moorestown Mall’s food court from 10am to 2pm.\n \nThis year\, the needs are greater than ever before. And though volunteering may look different\, there are still so many ways to give back. Take time out with your family this season to help others\, and make a positive mark on the world.\nWe hope you will come out to learn about local nonprofit organizations and how you can get involved. Please stop by the CSJP table to stuff a sock and tie a knot in a no sew fleece blanket!\n \nWe will also be collecting the following items:\n\nLeftover Halloween Candy\nNew Towels\nNew Washcloths\nNew Socks\nNew Underwear (adult men and women)
URL:https://communitysjp.org/event/csjpfamilyvolunteerday-2021-11-20/
LOCATION:Moorestown Mall\, 400 NJ-38\,\, Moorestown\, NJ\, 08057\, United States
CATEGORIES:Care Packages,Info Booth
GEO:39.9461119;-74.9611075
X-APPLE-STRUCTURED-LOCATION;VALUE=URI;X-ADDRESS=Moorestown Mall 400 NJ-38 Moorestown NJ 08057 United States;X-APPLE-RADIUS=500;X-TITLE=400 NJ-38\,:geo:-74.9611075,39.9461119
END:VEVENT
BEGIN:VEVENT
DTSTART;TZID=America/New_York:20211024T130000
DTEND;TZID=America/New_York:20211024T160000
DTSTAMP:20260424T135711
CREATED:20180110T033338Z
LAST-MODIFIED:20211223T031240Z
UID:10000120-1635080400-1635091200@communitysjp.org
SUMMARY:CHFC Fall Festival
DESCRIPTION:Stop by the CSJP booth at Cherry Hill Free Clinic’s fall festival on October 24 from 1-4pm. We will have info about our organization and will bring a small service activity to give your a glimpse into CSJP!
URL:https://communitysjp.org/event/chfcfallfestival-2021-10-24/
LOCATION:GCLEA\, 5 Esterbrook Lane\, Cherry Hill\, 08003
CATEGORIES:Info Booth
GEO:39.9140551;-74.9689149
X-APPLE-STRUCTURED-LOCATION;VALUE=URI;X-ADDRESS=GCLEA 5 Esterbrook Lane Cherry Hill 08003;X-APPLE-RADIUS=500;X-TITLE=5 Esterbrook Lane:geo:-74.9689149,39.9140551
END:VEVENT
BEGIN:VEVENT
DTSTART;TZID=America/New_York:20200223T103000
DTEND;TZID=America/New_York:20200223T120000
DTSTAMP:20260424T135711
CREATED:20200216T035707Z
LAST-MODIFIED:20200216T040954Z
UID:10000131-1582453800-1582459200@communitysjp.org
SUMMARY:Community Service Showcase
DESCRIPTION:Check us out at the Mitzvah Mall Community Service Showcase.
URL:https://communitysjp.org/event/community-service-showcase-202002/
LOCATION:Congregation Beth El\, 8000 Main Street\, Voorhees\, NJ\, 08043\, United States
CATEGORIES:CommUNITY Comfort,Info Booth
GEO:39.8679578;-74.9450843
X-APPLE-STRUCTURED-LOCATION;VALUE=URI;X-ADDRESS=Congregation Beth El 8000 Main Street Voorhees NJ 08043 United States;X-APPLE-RADIUS=500;X-TITLE=8000 Main Street:geo:-74.9450843,39.8679578
END:VEVENT
BEGIN:VEVENT
DTSTART;TZID=America/New_York:20191116T133000
DTEND;TZID=America/New_York:20191116T160000
DTSTAMP:20260424T135711
CREATED:20171102T025953Z
LAST-MODIFIED:20191102T202152Z
UID:10000070-1573911000-1573920000@communitysjp.org
SUMMARY:Fall Festival
DESCRIPTION:Join us for our second annual fall festival! 3 years have flown by – COMMUNITY SJP is thankful for its growing amount of members and dedicated volunteers since its inception in November 2016.  \nTickets: The event is free for members – annual family membership can be purchased for $40 per household. General admission tickets are on pre-sale for $8 per person (3 and under are free) until 10/31/19! Prices will increase to $10 per person after 10/31/19! Payments for tickets can be made on PayPal or Venmo. Please add the number of tickets you are paying for in the notes section. \nIf you would like to volunteer at this event\, please sign up today. We will provide service hours to all volunteers! \nWe have a lot of exciting things planned for this event. Stay tuned for updates as the event nears! \n\nWarrior Gyms modulars\nCalligraphy with Salih\nFace Painting with Mimi Gallen\nArts and Crafts with Garden State Discovery Museum\nDonut eating contest\nGingerbread House and Pumpkin decorating\nIndoor games\nA taste of some community service activities\nSnacks\nAnd More!\n\nPlease bring a non-perishable item to be donated to a food pantry\, and unexpired\, packaged candy. New toy donations and new pairs of socks are also welcome! \nPlease fill out our Waiver & Release of Liability to attend this event. We will also have copies to sign at the door. \n\n	Notice: JavaScript is required for this content.
URL:https://communitysjp.org/event/fall-festival-1119/
LOCATION:Palmyra Community Center\, 20 W Broad St\, Palmyra\, NJ\, 08065\, United States
CATEGORIES:Care Packages,CommUNITY Socials,Family Night,Fundraising,Info Booth,Other Projects
GEO:40.0032065;-75.0221873
X-APPLE-STRUCTURED-LOCATION;VALUE=URI;X-ADDRESS=Palmyra Community Center 20 W Broad St Palmyra NJ 08065 United States;X-APPLE-RADIUS=500;X-TITLE=20 W Broad St:geo:-75.0221873,40.0032065
END:VEVENT
BEGIN:VEVENT
DTSTART;TZID=America/New_York:20181117T133000
DTEND;TZID=America/New_York:20181117T160000
DTSTAMP:20260424T135711
CREATED:20171102T025953Z
LAST-MODIFIED:20181113T005731Z
UID:10000065-1542461400-1542470400@communitysjp.org
SUMMARY:Fall Festival
DESCRIPTION:2 years have flown by!! COMMUNITY SJP is thankful for its growing amount of members and dedicated volunteers since its inception in November 2016. \nJoin us for our first fall festival to celebrate our wonderful volunteers! We will have different stations of service events and games/activities. \nTickets: \nThe event is free for members! Tickets are on sale for $10 per person (3 and under are free) or a family membership can be purchased for $40 per household. Purchase your tickets by 10/31/18 to receive a free raffle ticket! Payments for tickets can be made on PayPal or Venmo. Please add the number of tickets you are paying for in the notes section. \nActivities include gingerbread house making\, pumpkin decorating\, cupcake decorating\, a visit from the Garden State Discovery Center\, a Kid Fit obstacle course\, discounted Sky Zone tickets\, a calligrapher\, games\, face painting\, lunch\, and more! \nPlease bring a non-perishable item to be donated to a food pantry\, and unexpired\, packaged candy. New toy donations and winter clothing donations are also welcome. Each item donated will get you a raffle ticket! \n\n	Notice: JavaScript is required for this content.\nNo Fields Found.
URL:https://communitysjp.org/event/fall-festival-1118/
LOCATION:Palmyra Community Center\, 20 W Broad St\, Palmyra\, NJ\, 08065\, United States
CATEGORIES:Care Packages,Family Night,Fundraising,Info Booth,Other Projects
GEO:40.0032065;-75.0221873
X-APPLE-STRUCTURED-LOCATION;VALUE=URI;X-ADDRESS=Palmyra Community Center 20 W Broad St Palmyra NJ 08065 United States;X-APPLE-RADIUS=500;X-TITLE=20 W Broad St:geo:-75.0221873,40.0032065
END:VEVENT
BEGIN:VEVENT
DTSTART;TZID=America/New_York:20171120T100000
DTEND;TZID=America/New_York:20171120T130000
DTSTAMP:20260424T135711
CREATED:20171109T235247Z
LAST-MODIFIED:20171109T235247Z
UID:10000078-1511172000-1511182800@communitysjp.org
SUMMARY:Information Booth & Autumn Giving Table
DESCRIPTION:RCBC Students Only \nCOMMUNITY will set up an information booth as well as an Autumn Giving table at the Rowan College at Burlington County. Rowan students will work on decorating Turkey Pumpkins for families in need as well as assembling no-sew blankets for children at CHOP/Providence House.
URL:https://communitysjp.org/event/information-booth-autumn-giving-table/
LOCATION:Student Success Center\, 900 College Circle\, Mount Laurel\, NJ\, 08054\, United States
CATEGORIES:Care Packages,Info Booth
ORGANIZER;CN="":MAILTO:medeehakhan@gmail.com
GEO:39.9721738;-74.8943408
X-APPLE-STRUCTURED-LOCATION;VALUE=URI;X-ADDRESS=Student Success Center 900 College Circle Mount Laurel NJ 08054 United States;X-APPLE-RADIUS=500;X-TITLE=900 College Circle:geo:-74.8943408,39.9721738
END:VEVENT
END:VCALENDAR