BEGIN:VCALENDAR
VERSION:2.0
PRODID:-//CommUNITY SJP - ECPv6.15.20//NONSGML v1.0//EN
CALSCALE:GREGORIAN
METHOD:PUBLISH
X-WR-CALNAME:CommUNITY SJP
X-ORIGINAL-URL:https://communitysjp.org
X-WR-CALDESC:Events for CommUNITY SJP
REFRESH-INTERVAL;VALUE=DURATION:PT1H
X-Robots-Tag:noindex
X-PUBLISHED-TTL:PT1H
BEGIN:VTIMEZONE
TZID:America/New_York
BEGIN:DAYLIGHT
TZOFFSETFROM:-0500
TZOFFSETTO:-0400
TZNAME:EDT
DTSTART:20250309T070000
END:DAYLIGHT
BEGIN:STANDARD
TZOFFSETFROM:-0400
TZOFFSETTO:-0500
TZNAME:EST
DTSTART:20251102T060000
END:STANDARD
BEGIN:DAYLIGHT
TZOFFSETFROM:-0500
TZOFFSETTO:-0400
TZNAME:EDT
DTSTART:20260308T070000
END:DAYLIGHT
BEGIN:STANDARD
TZOFFSETFROM:-0400
TZOFFSETTO:-0500
TZNAME:EST
DTSTART:20261101T060000
END:STANDARD
BEGIN:DAYLIGHT
TZOFFSETFROM:-0500
TZOFFSETTO:-0400
TZNAME:EDT
DTSTART:20270314T070000
END:DAYLIGHT
BEGIN:STANDARD
TZOFFSETFROM:-0400
TZOFFSETTO:-0500
TZNAME:EST
DTSTART:20271107T060000
END:STANDARD
END:VTIMEZONE
BEGIN:VEVENT
DTSTART;TZID=America/New_York:20260425T130000
DTEND;TZID=America/New_York:20260425T160000
DTSTAMP:20260424T104205
CREATED:20251207T225206Z
LAST-MODIFIED:20260404T071303Z
UID:10000249-1777122000-1777132800@communitysjp.org
SUMMARY:2026 Spring Festival
DESCRIPTION:We are excited to bring back our festival\, but this time in the spring! 9 years have flown by – COMMUNITY SJP is thankful for its growing amount of members and dedicated volunteers since its inception in November 2016.  \nThe event is free to attend\, but please registerregister so we can plan accordingly. \nIf you would like to volunteer at this event\, please sign up today. We will provide service hours to all volunteers! \nWe have a lot of exciting things planned for this event. Stay tuned for updates as the event nears! \n\nCalligraphy with Salih\nDonut eating contest\nEscape Room\, Gel Blaster\, Lawn games\nA taste of some community service activities\nVolleyball contest – form a team today!\nVendors\nBake Sale\nAnd More!\n\nPlease bring a non-perishable item to be donated to a food pantry\, and unexpired\, packaged candy. New toy donations and new pairs of socks are also welcome! \nAs you know\, our events are 100% volunteer driven and we fully rely on our generous donors to make our events possible. Please consider making a donation towards the items purchased for our events. \nWays to Donate: Zelle (preferred): communitysjp@gmail.com\, Venmo\, PayPal\, Credit Card\, Cash or check payable to CommUNITY SJP \nPlease fill out our Waiver & Release of Liability to attend this event. We will also have copies to sign at the door.
URL:https://communitysjp.org/event/2026-spring-festival-0426/
LOCATION:Laurel House\, 562 Walton Avenue\, Mount Laurel\, NJ\, 08054\, United States
GEO:39.9500627;-74.8852648
X-APPLE-STRUCTURED-LOCATION;VALUE=URI;X-ADDRESS=Laurel House 562 Walton Avenue Mount Laurel NJ 08054 United States;X-APPLE-RADIUS=500;X-TITLE=562 Walton Avenue:geo:-74.8852648,39.9500627
END:VEVENT
BEGIN:VEVENT
DTSTART;TZID=America/New_York:20260509T113000
DTEND;TZID=America/New_York:20260509T130000
DTSTAMP:20260424T104205
CREATED:20251207T230126Z
LAST-MODIFIED:20251207T230407Z
UID:10000250-1778326200-1778331600@communitysjp.org
SUMMARY:Migrant Worker Care Packages & CommUNITY Meals
DESCRIPTION:Join us for our annual event to assemble 150 care packages for the hardworking migrant workers who spend their summers working in South Jersey’s blueberry fields. To purchase in-kind donations\, please visit our Amazon Wish List. We will shut this list off by 05/01/2026 to ensure we have enough time to purchase the remaining items. You can also sponsor 5 bags for $25! \nWe will also assemble bagged lunches with peanut butter and jelly sandwiches to be distributed in South Jersey. Please consider purchasing items for our meals event – there are plenty of ways to help! \nAs you know\, our events are 100% volunteer driven and we fully rely on our generous donors to make our events possible. Please consider making a donation towards the items purchased for our events. To make a monetary donation\, please visit Zelle (communitysjp@gmail.com)\, Venmo\, or PayPal. \nPhoto/Video Release \nBy attending this event\, I acknowledge that I grant permission to COMMUNITY SJP the irrevocable and unrestricted right to reproduce the photographs and/or video images taken of me\, or members of my family\, for the purpose of publication\, promotion\, illustration\, advertising\, or trade\, in any manner or in any medium. I hereby release COMMUNITY SJP and its legal representatives for all claims and liability relating to said images or video. Furthermore\, I grant permission to use my statements that were given during an interview\, with or without my name\, for the purpose of advertising and publicity without restriction. I waive my right to any compensation. If at the event I do not want my photo taken\, I can speak up and ask not to be photographed.
URL:https://communitysjp.org/event/migrant-worker-care-packages-community-meals-0526/
LOCATION:TBD\, NJ\, United States
CATEGORIES:Care Packages,CommUNITY Meals,Migrant Workers
END:VEVENT
END:VCALENDAR