BEGIN:VCALENDAR
VERSION:2.0
PRODID:-//CommUNITY SJP - ECPv6.15.20//NONSGML v1.0//EN
CALSCALE:GREGORIAN
METHOD:PUBLISH
X-WR-CALNAME:CommUNITY SJP
X-ORIGINAL-URL:https://communitysjp.org
X-WR-CALDESC:Events for CommUNITY SJP
REFRESH-INTERVAL;VALUE=DURATION:PT1H
X-Robots-Tag:noindex
X-PUBLISHED-TTL:PT1H
BEGIN:VTIMEZONE
TZID:America/New_York
BEGIN:DAYLIGHT
TZOFFSETFROM:-0500
TZOFFSETTO:-0400
TZNAME:EDT
DTSTART:20180311T070000
END:DAYLIGHT
BEGIN:STANDARD
TZOFFSETFROM:-0400
TZOFFSETTO:-0500
TZNAME:EST
DTSTART:20181104T060000
END:STANDARD
BEGIN:DAYLIGHT
TZOFFSETFROM:-0500
TZOFFSETTO:-0400
TZNAME:EDT
DTSTART:20190310T070000
END:DAYLIGHT
BEGIN:STANDARD
TZOFFSETFROM:-0400
TZOFFSETTO:-0500
TZNAME:EST
DTSTART:20191103T060000
END:STANDARD
BEGIN:DAYLIGHT
TZOFFSETFROM:-0500
TZOFFSETTO:-0400
TZNAME:EDT
DTSTART:20200308T070000
END:DAYLIGHT
BEGIN:STANDARD
TZOFFSETFROM:-0400
TZOFFSETTO:-0500
TZNAME:EST
DTSTART:20201101T060000
END:STANDARD
BEGIN:DAYLIGHT
TZOFFSETFROM:-0500
TZOFFSETTO:-0400
TZNAME:EDT
DTSTART:20210314T070000
END:DAYLIGHT
BEGIN:STANDARD
TZOFFSETFROM:-0400
TZOFFSETTO:-0500
TZNAME:EST
DTSTART:20211107T060000
END:STANDARD
BEGIN:DAYLIGHT
TZOFFSETFROM:-0500
TZOFFSETTO:-0400
TZNAME:EDT
DTSTART:20220313T070000
END:DAYLIGHT
BEGIN:STANDARD
TZOFFSETFROM:-0400
TZOFFSETTO:-0500
TZNAME:EST
DTSTART:20221106T060000
END:STANDARD
END:VTIMEZONE
BEGIN:VEVENT
DTSTART;TZID=America/New_York:20210505T193000
DTEND;TZID=America/New_York:20210505T203000
DTSTAMP:20260424T235728
CREATED:20200311T000021Z
LAST-MODIFIED:20210311T021634Z
UID:10000141-1620243000-1620246600@communitysjp.org
SUMMARY:Monthly Meeting
DESCRIPTION:Zoom link to be shared with participants ahead of meeting.
URL:https://communitysjp.org/event/monthly-meeting-0521/
LOCATION:Zoom\, United States
CATEGORIES:Monthly Meeting
END:VEVENT
BEGIN:VEVENT
DTSTART;TZID=America/New_York:20210407T193000
DTEND;TZID=America/New_York:20210407T203000
DTSTAMP:20260424T235728
CREATED:20200311T000021Z
LAST-MODIFIED:20210311T021618Z
UID:10000142-1617823800-1617827400@communitysjp.org
SUMMARY:Monthly Meeting
DESCRIPTION:Zoom link to be shared with participants ahead of meeting.
URL:https://communitysjp.org/event/monthly-meeting-0421/
LOCATION:Zoom\, United States
CATEGORIES:Monthly Meeting
END:VEVENT
BEGIN:VEVENT
DTSTART;TZID=America/New_York:20210310T200000
DTEND;TZID=America/New_York:20210310T210000
DTSTAMP:20260424T235728
CREATED:20200311T000021Z
LAST-MODIFIED:20210311T021326Z
UID:10000133-1615406400-1615410000@communitysjp.org
SUMMARY:Monthly Meeting
DESCRIPTION:Zoom link to be shared with participants ahead of meeting.
URL:https://communitysjp.org/event/monthly-meeting-0321/
LOCATION:Zoom\, United States
CATEGORIES:Monthly Meeting
END:VEVENT
BEGIN:VEVENT
DTSTART;VALUE=DATE:20210301
DTEND;VALUE=DATE:20210322
DTSTAMP:20260424T235728
CREATED:20180723T121956Z
LAST-MODIFIED:20210311T022228Z
UID:10000128-1614556800-1616371199@communitysjp.org
SUMMARY:Food Drive
DESCRIPTION:COMMUNITY SJP is collecting non-perishable foods to provide grocery bags to local families in Ethel Lawrence Homes in Mount Laurel\, NJ. We are so excited to partner with Diverse Professionals Real Estate Group on this initiative! \nEthel Robinson Lawrence was a civil rights activist who served as the lead plaintiff in the Mt Laurel\, NJ litigation for affordable housing. These efforts led to the NJ Fair Housing Act\, the NJ Council on Affordable Housing (COAH) and the Mt Laurel doctrine. In her final years\, Lawrence worked closely with attorney Peter O’Connor to start the nonprofit organization Fair Share Housing Development Inc.\, which built over 200 units for moderate- to low-income tenants in Mt Laurel. \nProviding families and those in need with healthy food options and supplies has becoming increasingly important during these difficult times\, when resources are scarce and availability of food and household items are limited. With your help and contributions\, we plan to provide meal packages for families in the community. \nItems must be delivered by Sunday\, March 21st! Please contact communitysjp@gmail.com to coordinate drop off. \nMonetary donations can also be made via PayPal and Venmo.
URL:https://communitysjp.org/event/food-drive-0321/
CATEGORIES:CommUNITY Meals
END:VEVENT
BEGIN:VEVENT
DTSTART;TZID=America/New_York:20210210T193000
DTEND;TZID=America/New_York:20210210T210000
DTSTAMP:20260424T235728
CREATED:20200211T003021Z
LAST-MODIFIED:20210311T021332Z
UID:10000130-1612985400-1612990800@communitysjp.org
SUMMARY:Monthly Meeting
DESCRIPTION:Zoom link to be shared with participants ahead of meeting.
URL:https://communitysjp.org/event/monthly-meeting-0221/
LOCATION:Zoom\, United States
CATEGORIES:Monthly Meeting
END:VEVENT
BEGIN:VEVENT
DTSTART;TZID=America/New_York:20210120T193000
DTEND;TZID=America/New_York:20210120T210000
DTSTAMP:20260424T235728
CREATED:20210121T003021Z
LAST-MODIFIED:20210311T021339Z
UID:10000143-1611171000-1611176400@communitysjp.org
SUMMARY:Monthly Meeting
DESCRIPTION:Zoom link to be shared with participants ahead of meeting.
URL:https://communitysjp.org/event/monthly-meeting-0121/
LOCATION:Zoom\, United States
CATEGORIES:Monthly Meeting
END:VEVENT
BEGIN:VEVENT
DTSTART;TZID=America/New_York:20201202T193000
DTEND;TZID=America/New_York:20201202T210000
DTSTAMP:20260424T235728
CREATED:20171207T003021Z
LAST-MODIFIED:20200103T113525Z
UID:10000094-1606937400-1606942800@communitysjp.org
SUMMARY:Monthly Meeting
DESCRIPTION:Monthly Meeting at Wegmans in Mount Laurel. Plan to arrive by 7:20pm. Meeting will begin promptly at 7:30pm.
URL:https://communitysjp.org/event/monthly-meeting-1220/
LOCATION:Wegmans\, 2 Centerton Road\, Mount Laurel\, 08054\, United States
CATEGORIES:Monthly Meeting
GEO:39.9677985;-74.9148487
X-APPLE-STRUCTURED-LOCATION;VALUE=URI;X-ADDRESS=Wegmans 2 Centerton Road Mount Laurel 08054 United States;X-APPLE-RADIUS=500;X-TITLE=2 Centerton Road:geo:-74.9148487,39.9677985
END:VEVENT
BEGIN:VEVENT
DTSTART;TZID=America/New_York:20201104T193000
DTEND;TZID=America/New_York:20201104T210000
DTSTAMP:20260424T235728
CREATED:20171207T003021Z
LAST-MODIFIED:20200103T113514Z
UID:10000095-1604518200-1604523600@communitysjp.org
SUMMARY:Monthly Meeting
DESCRIPTION:Monthly Meeting at Wegmans in Mount Laurel. Plan to arrive by 7:20pm. Meeting will begin promptly at 7:30pm.
URL:https://communitysjp.org/event/monthly-meeting-1120/
LOCATION:Wegmans\, 2 Centerton Road\, Mount Laurel\, 08054\, United States
CATEGORIES:Monthly Meeting
GEO:39.9677985;-74.9148487
X-APPLE-STRUCTURED-LOCATION;VALUE=URI;X-ADDRESS=Wegmans 2 Centerton Road Mount Laurel 08054 United States;X-APPLE-RADIUS=500;X-TITLE=2 Centerton Road:geo:-74.9148487,39.9677985
END:VEVENT
BEGIN:VEVENT
DTSTART;TZID=America/New_York:20201007T193000
DTEND;TZID=America/New_York:20201007T210000
DTSTAMP:20260424T235728
CREATED:20171207T003021Z
LAST-MODIFIED:20200103T113503Z
UID:10000096-1602099000-1602104400@communitysjp.org
SUMMARY:Monthly Meeting
DESCRIPTION:Monthly Meeting at Wegmans in Mount Laurel. Plan to arrive by 7:20pm. Meeting will begin promptly at 7:30pm.
URL:https://communitysjp.org/event/monthly-meeting-1020/
LOCATION:Wegmans\, 2 Centerton Road\, Mount Laurel\, 08054\, United States
CATEGORIES:Monthly Meeting
GEO:39.9677985;-74.9148487
X-APPLE-STRUCTURED-LOCATION;VALUE=URI;X-ADDRESS=Wegmans 2 Centerton Road Mount Laurel 08054 United States;X-APPLE-RADIUS=500;X-TITLE=2 Centerton Road:geo:-74.9148487,39.9677985
END:VEVENT
BEGIN:VEVENT
DTSTART;TZID=America/New_York:20200902T193000
DTEND;TZID=America/New_York:20200902T210000
DTSTAMP:20260424T235728
CREATED:20171207T003021Z
LAST-MODIFIED:20200103T113452Z
UID:10000097-1599075000-1599080400@communitysjp.org
SUMMARY:Monthly Meeting
DESCRIPTION:Monthly Meeting at Wegmans in Mount Laurel. Plan to arrive by 7:20pm. Meeting will begin promptly at 7:30pm.
URL:https://communitysjp.org/event/monthly-meeting-0920/
LOCATION:Wegmans\, 2 Centerton Road\, Mount Laurel\, 08054\, United States
CATEGORIES:Monthly Meeting
GEO:39.9677985;-74.9148487
X-APPLE-STRUCTURED-LOCATION;VALUE=URI;X-ADDRESS=Wegmans 2 Centerton Road Mount Laurel 08054 United States;X-APPLE-RADIUS=500;X-TITLE=2 Centerton Road:geo:-74.9148487,39.9677985
END:VEVENT
BEGIN:VEVENT
DTSTART;TZID=America/New_York:20200805T193000
DTEND;TZID=America/New_York:20200805T210000
DTSTAMP:20260424T235728
CREATED:20171207T003021Z
LAST-MODIFIED:20200103T113441Z
UID:10000098-1596655800-1596661200@communitysjp.org
SUMMARY:Monthly Meeting
DESCRIPTION:Monthly Meeting at Wegmans in Mount Laurel. Plan to arrive by 7:20pm. Meeting will begin promptly at 7:30pm.
URL:https://communitysjp.org/event/monthly-meeting-0820/
LOCATION:Wegmans\, 2 Centerton Road\, Mount Laurel\, 08054\, United States
CATEGORIES:Monthly Meeting
GEO:39.9677985;-74.9148487
X-APPLE-STRUCTURED-LOCATION;VALUE=URI;X-ADDRESS=Wegmans 2 Centerton Road Mount Laurel 08054 United States;X-APPLE-RADIUS=500;X-TITLE=2 Centerton Road:geo:-74.9148487,39.9677985
END:VEVENT
BEGIN:VEVENT
DTSTART;TZID=America/New_York:20200701T193000
DTEND;TZID=America/New_York:20200701T210000
DTSTAMP:20260424T235728
CREATED:20171207T003021Z
LAST-MODIFIED:20200103T113430Z
UID:10000099-1593631800-1593637200@communitysjp.org
SUMMARY:Monthly Meeting
DESCRIPTION:Monthly Meeting at Wegmans in Mount Laurel. Plan to arrive by 7:20pm. Meeting will begin promptly at 7:30pm.
URL:https://communitysjp.org/event/monthly-meeting-0720/
LOCATION:Wegmans\, 2 Centerton Road\, Mount Laurel\, 08054\, United States
CATEGORIES:Monthly Meeting
GEO:39.9677985;-74.9148487
X-APPLE-STRUCTURED-LOCATION;VALUE=URI;X-ADDRESS=Wegmans 2 Centerton Road Mount Laurel 08054 United States;X-APPLE-RADIUS=500;X-TITLE=2 Centerton Road:geo:-74.9148487,39.9677985
END:VEVENT
BEGIN:VEVENT
DTSTART;TZID=America/New_York:20200603T193000
DTEND;TZID=America/New_York:20200603T210000
DTSTAMP:20260424T235728
CREATED:20171207T003021Z
LAST-MODIFIED:20200103T113408Z
UID:10000100-1591212600-1591218000@communitysjp.org
SUMMARY:Monthly Meeting
DESCRIPTION:Monthly Meeting at Wegmans in Mount Laurel. Plan to arrive by 7:20pm. Meeting will begin promptly at 7:30pm.
URL:https://communitysjp.org/event/monthly-meeting-0620/
LOCATION:Wegmans\, 2 Centerton Road\, Mount Laurel\, 08054\, United States
CATEGORIES:Monthly Meeting
GEO:39.9677985;-74.9148487
X-APPLE-STRUCTURED-LOCATION;VALUE=URI;X-ADDRESS=Wegmans 2 Centerton Road Mount Laurel 08054 United States;X-APPLE-RADIUS=500;X-TITLE=2 Centerton Road:geo:-74.9148487,39.9677985
END:VEVENT
BEGIN:VEVENT
DTSTART;TZID=America/New_York:20200506T193000
DTEND;TZID=America/New_York:20200506T210000
DTSTAMP:20260424T235728
CREATED:20171207T003021Z
LAST-MODIFIED:20200103T113352Z
UID:10000101-1588793400-1588798800@communitysjp.org
SUMMARY:Monthly Meeting
DESCRIPTION:Monthly Meeting at Wegmans in Mount Laurel. Plan to arrive by 7:20pm. Meeting will begin promptly at 7:30pm.
URL:https://communitysjp.org/event/monthly-meeting-0520/
LOCATION:Wegmans\, 2 Centerton Road\, Mount Laurel\, 08054\, United States
CATEGORIES:Monthly Meeting
GEO:39.9677985;-74.9148487
X-APPLE-STRUCTURED-LOCATION;VALUE=URI;X-ADDRESS=Wegmans 2 Centerton Road Mount Laurel 08054 United States;X-APPLE-RADIUS=500;X-TITLE=2 Centerton Road:geo:-74.9148487,39.9677985
END:VEVENT
BEGIN:VEVENT
DTSTART;TZID=America/New_York:20200401T193000
DTEND;TZID=America/New_York:20200401T210000
DTSTAMP:20260424T235728
CREATED:20171207T003021Z
LAST-MODIFIED:20200103T113339Z
UID:10000102-1585769400-1585774800@communitysjp.org
SUMMARY:Monthly Meeting
DESCRIPTION:Monthly Meeting at Wegmans in Mount Laurel. Plan to arrive by 7:20pm. Meeting will begin promptly at 7:30pm.
URL:https://communitysjp.org/event/monthly-meeting-0420/
LOCATION:Wegmans\, 2 Centerton Road\, Mount Laurel\, 08054\, United States
CATEGORIES:Monthly Meeting
GEO:39.9677985;-74.9148487
X-APPLE-STRUCTURED-LOCATION;VALUE=URI;X-ADDRESS=Wegmans 2 Centerton Road Mount Laurel 08054 United States;X-APPLE-RADIUS=500;X-TITLE=2 Centerton Road:geo:-74.9148487,39.9677985
END:VEVENT
BEGIN:VEVENT
DTSTART;TZID=America/New_York:20200304T193000
DTEND;TZID=America/New_York:20200304T210000
DTSTAMP:20260424T235728
CREATED:20171207T003021Z
LAST-MODIFIED:20200103T113327Z
UID:10000103-1583350200-1583355600@communitysjp.org
SUMMARY:Monthly Meeting
DESCRIPTION:Monthly Meeting at Wegmans in Mount Laurel. Plan to arrive by 7:20pm. Meeting will begin promptly at 7:30pm.
URL:https://communitysjp.org/event/monthly-meeting-0320/
LOCATION:Wegmans\, 2 Centerton Road\, Mount Laurel\, 08054\, United States
CATEGORIES:Monthly Meeting
GEO:39.9677985;-74.9148487
X-APPLE-STRUCTURED-LOCATION;VALUE=URI;X-ADDRESS=Wegmans 2 Centerton Road Mount Laurel 08054 United States;X-APPLE-RADIUS=500;X-TITLE=2 Centerton Road:geo:-74.9148487,39.9677985
END:VEVENT
BEGIN:VEVENT
DTSTART;TZID=America/New_York:20200228T133000
DTEND;TZID=America/New_York:20200228T143000
DTSTAMP:20260424T235728
CREATED:20200216T040553Z
LAST-MODIFIED:20200216T041000Z
UID:10000132-1582896600-1582900200@communitysjp.org
SUMMARY:CommUNITY Comfort - Stuff a Sock
DESCRIPTION:Join us at Artis Senior Living of Evesham to stuff socks with snacks\, which will be distributed to local homeless shelters. RSVP is required – max 10 volunteers.
URL:https://communitysjp.org/event/community-comfort-202002/
LOCATION:Artis Senior Living of Evesham\, 302 Lippincott Drive\, Marlton\, NJ\, 08053\, United States
CATEGORIES:CommUNITY Comfort
GEO:39.8856878;-74.9245677
X-APPLE-STRUCTURED-LOCATION;VALUE=URI;X-ADDRESS=Artis Senior Living of Evesham 302 Lippincott Drive Marlton NJ 08053 United States;X-APPLE-RADIUS=500;X-TITLE=302 Lippincott Drive:geo:-74.9245677,39.8856878
END:VEVENT
BEGIN:VEVENT
DTSTART;TZID=America/New_York:20200223T103000
DTEND;TZID=America/New_York:20200223T120000
DTSTAMP:20260424T235728
CREATED:20200216T035707Z
LAST-MODIFIED:20200216T040954Z
UID:10000131-1582453800-1582459200@communitysjp.org
SUMMARY:Community Service Showcase
DESCRIPTION:Check us out at the Mitzvah Mall Community Service Showcase.
URL:https://communitysjp.org/event/community-service-showcase-202002/
LOCATION:Congregation Beth El\, 8000 Main Street\, Voorhees\, NJ\, 08043\, United States
CATEGORIES:CommUNITY Comfort,Info Booth
GEO:39.8679578;-74.9450843
X-APPLE-STRUCTURED-LOCATION;VALUE=URI;X-ADDRESS=Congregation Beth El 8000 Main Street Voorhees NJ 08043 United States;X-APPLE-RADIUS=500;X-TITLE=8000 Main Street:geo:-74.9450843,39.8679578
END:VEVENT
BEGIN:VEVENT
DTSTART;TZID=America/New_York:20200215T110000
DTEND;TZID=America/New_York:20200215T130000
DTSTAMP:20260424T235728
CREATED:20170605T015216Z
LAST-MODIFIED:20200211T031119Z
UID:10000025-1581764400-1581771600@communitysjp.org
SUMMARY:CommUNITY Meals & Stuff a Sock
DESCRIPTION:Please join us to make bagged lunches with PB&J sandwiches for the hungry! We will also stuff socks with snacks for local homeless shelters. New sock donations are welcome! \nTo make a monetary donation\, please visit PayPal or Venmo. Items to be purchased are listed on SignUp Genius. \nThis event is FREE to attend! Please RSVP so we can keep track of headcount (facebook account not required to RSVP)!
URL:https://communitysjp.org/event/community-meals-0220/
LOCATION:Mount Laurel Library\, 100 Walt Whitman Ave\, Mount Laurel\, 08054\, United States
CATEGORIES:CommUNITY Comfort,CommUNITY Meals
GEO:39.9573008;-74.9237444
X-APPLE-STRUCTURED-LOCATION;VALUE=URI;X-ADDRESS=Mount Laurel Library 100 Walt Whitman Ave Mount Laurel 08054 United States;X-APPLE-RADIUS=500;X-TITLE=100 Walt Whitman Ave:geo:-74.9237444,39.9573008
END:VEVENT
BEGIN:VEVENT
DTSTART;TZID=America/New_York:20200205T193000
DTEND;TZID=America/New_York:20200205T210000
DTSTAMP:20260424T235728
CREATED:20171207T003021Z
LAST-MODIFIED:20200103T112946Z
UID:10000093-1580931000-1580936400@communitysjp.org
SUMMARY:Monthly Meeting
DESCRIPTION:Monthly Meeting at Wegmans in Mount Laurel. Plan to arrive by 7:20pm. Meeting will begin promptly at 7:30pm.
URL:https://communitysjp.org/event/monthly-meeting-0220/
LOCATION:Wegmans\, 2 Centerton Road\, Mount Laurel\, 08054\, United States
CATEGORIES:Monthly Meeting
GEO:39.9677985;-74.9148487
X-APPLE-STRUCTURED-LOCATION;VALUE=URI;X-ADDRESS=Wegmans 2 Centerton Road Mount Laurel 08054 United States;X-APPLE-RADIUS=500;X-TITLE=2 Centerton Road:geo:-74.9148487,39.9677985
END:VEVENT
BEGIN:VEVENT
DTSTART;TZID=America/New_York:20200125T110000
DTEND;TZID=America/New_York:20200125T133000
DTSTAMP:20260424T235728
CREATED:20171102T025953Z
LAST-MODIFIED:20200103T100144Z
UID:10000073-1579950000-1579959000@communitysjp.org
SUMMARY:CommUNITY Comfort
DESCRIPTION:Join us in making no-sew fleece blankets and stuffing socks with snacks for local homeless shelters. New sock donations are welcome! \nThis project engages individuals and families in a fun\, hands on activity which involves little to no skill. Adults and children (ages 9+) can collectively combat blanket shortages at this event. Children ages 12+ can prepare a blanket on their own with minimal guidance. Children ages 9-11 can prepare a blanket with help from an adult. Although this is a great way to engage children to give back to the community\, we will need an adequate number of adults to assist our youth volunteers. Each blanket will take ~1 hour to assemble in full. A $12 donation covers the expense of 1 blanket. **These blankets will be purchased in bulk by COMMUNITY SJP.** Recipients of these blankets include domestic abuse shelters\, homeless shelters\, hospitals\, and more. \nTo make a monetary donation towards COMMUNITY Comfort\, please visit PayPal or Venmo. \nThis event is FREE to attend! Please RSVP so we can keep track of headcount!
URL:https://communitysjp.org/event/community-comfort-0120b/
LOCATION:Mount Laurel Library\, 100 Walt Whitman Ave\, Mount Laurel\, 08054\, United States
CATEGORIES:CommUNITY Comfort
GEO:39.9573008;-74.9237444
X-APPLE-STRUCTURED-LOCATION;VALUE=URI;X-ADDRESS=Mount Laurel Library 100 Walt Whitman Ave Mount Laurel 08054 United States;X-APPLE-RADIUS=500;X-TITLE=100 Walt Whitman Ave:geo:-74.9237444,39.9573008
END:VEVENT
BEGIN:VEVENT
DTSTART;TZID=America/New_York:20200111T123000
DTEND;TZID=America/New_York:20200111T143000
DTSTAMP:20260424T235728
CREATED:20171102T025953Z
LAST-MODIFIED:20200103T094139Z
UID:10000072-1578745800-1578753000@communitysjp.org
SUMMARY:CommUNITY Comfort
DESCRIPTION:Join us in making no-sew fleece blankets and stuffing socks with snacks for local homeless shelters. New sock donations are welcome! \nThis project engages individuals and families in a fun\, hands on activity which involves little to no skill. Adults and children (ages 9+) can collectively combat blanket shortages at this event. Children ages 12+ can prepare a blanket on their own with minimal guidance. Children ages 9-11 can prepare a blanket with help from an adult. Although this is a great way to engage children to give back to the community\, we will need an adequate number of adults to assist our youth volunteers. Each blanket will take ~1 hour to assemble in full. A $12 donation covers the expense of 1 blanket. **These blankets will be purchased in bulk by COMMUNITY SJP.** Recipients of these blankets include domestic abuse shelters\, homeless shelters\, hospitals\, and more. \nTo make a monetary donation towards COMMUNITY Comfort\, please visit PayPal or Venmo. \nThis event is FREE to attend! Please RSVP so we can keep track of headcount!
URL:https://communitysjp.org/event/community-comfort-0120a/
LOCATION:Moorestown Library\, 111 W 2nd St\, Moorestown\, NJ\, 08057\, United States
CATEGORIES:CommUNITY Comfort
GEO:39.9639405;-74.9507532
X-APPLE-STRUCTURED-LOCATION;VALUE=URI;X-ADDRESS=Moorestown Library 111 W 2nd St Moorestown NJ 08057 United States;X-APPLE-RADIUS=500;X-TITLE=111 W 2nd St:geo:-74.9507532,39.9639405
END:VEVENT
BEGIN:VEVENT
DTSTART;TZID=America/New_York:20200108T193000
DTEND;TZID=America/New_York:20200108T210000
DTSTAMP:20260424T235728
CREATED:20171207T003021Z
LAST-MODIFIED:20200103T112641Z
UID:10000092-1578511800-1578517200@communitysjp.org
SUMMARY:Monthly Meeting
DESCRIPTION:Monthly Meeting at Wegmans in Mount Laurel. Plan to arrive by 7:20pm. Meeting will begin promptly at 7:30pm.
URL:https://communitysjp.org/event/monthly-meeting-0120/
LOCATION:Wegmans\, 2 Centerton Road\, Mount Laurel\, 08054\, United States
CATEGORIES:Monthly Meeting
GEO:39.9677985;-74.9148487
X-APPLE-STRUCTURED-LOCATION;VALUE=URI;X-ADDRESS=Wegmans 2 Centerton Road Mount Laurel 08054 United States;X-APPLE-RADIUS=500;X-TITLE=2 Centerton Road:geo:-74.9148487,39.9677985
END:VEVENT
BEGIN:VEVENT
DTSTART;TZID=America/New_York:20191208T140000
DTEND;TZID=America/New_York:20191208T160000
DTSTAMP:20260424T235728
CREATED:20170605T015216Z
LAST-MODIFIED:20200103T094340Z
UID:10000024-1575813600-1575820800@communitysjp.org
SUMMARY:CommUNITY Meals & Stuff a Sock
DESCRIPTION:Please join us to make bagged lunches with bagels and cream cheese for the hungry! \nTo make a monetary donation\, please visit PayPal or Venmo. \nItems to be purchased are listed on SignUp Genius. \n\n	Notice: JavaScript is required for this content.\nNo Fields Found.
URL:https://communitysjp.org/event/community-meals-1219/
LOCATION:Virtua Health and Wellness (Formerly LourdesCare)\, 1 Brace Road\, Cherry Hill\, NJ\, 08034\, United States
CATEGORIES:CommUNITY Meals
GEO:39.91218;-75.0094528
X-APPLE-STRUCTURED-LOCATION;VALUE=URI;X-ADDRESS=Virtua Health and Wellness (Formerly LourdesCare) 1 Brace Road Cherry Hill NJ 08034 United States;X-APPLE-RADIUS=500;X-TITLE=1 Brace Road:geo:-75.0094528,39.91218
END:VEVENT
BEGIN:VEVENT
DTSTART;TZID=America/New_York:20191204T193000
DTEND;TZID=America/New_York:20191204T210000
DTSTAMP:20260424T235728
CREATED:20171207T003021Z
LAST-MODIFIED:20190113T063530Z
UID:10000088-1575487800-1575493200@communitysjp.org
SUMMARY:Monthly Meeting
DESCRIPTION:Monthly Meeting at Wegmans in Mount Laurel. Plan to arrive by 7:20pm. Meeting will begin promptly at 7:30pm.
URL:https://communitysjp.org/event/monthly-meeting-1219/
LOCATION:Wegmans\, 2 Centerton Road\, Mount Laurel\, 08054\, United States
CATEGORIES:Monthly Meeting
GEO:39.9677985;-74.9148487
X-APPLE-STRUCTURED-LOCATION;VALUE=URI;X-ADDRESS=Wegmans 2 Centerton Road Mount Laurel 08054 United States;X-APPLE-RADIUS=500;X-TITLE=2 Centerton Road:geo:-74.9148487,39.9677985
END:VEVENT
BEGIN:VEVENT
DTSTART;TZID=America/New_York:20191116T133000
DTEND;TZID=America/New_York:20191116T160000
DTSTAMP:20260424T235728
CREATED:20171102T025953Z
LAST-MODIFIED:20191102T202152Z
UID:10000070-1573911000-1573920000@communitysjp.org
SUMMARY:Fall Festival
DESCRIPTION:Join us for our second annual fall festival! 3 years have flown by – COMMUNITY SJP is thankful for its growing amount of members and dedicated volunteers since its inception in November 2016.  \nTickets: The event is free for members – annual family membership can be purchased for $40 per household. General admission tickets are on pre-sale for $8 per person (3 and under are free) until 10/31/19! Prices will increase to $10 per person after 10/31/19! Payments for tickets can be made on PayPal or Venmo. Please add the number of tickets you are paying for in the notes section. \nIf you would like to volunteer at this event\, please sign up today. We will provide service hours to all volunteers! \nWe have a lot of exciting things planned for this event. Stay tuned for updates as the event nears! \n\nWarrior Gyms modulars\nCalligraphy with Salih\nFace Painting with Mimi Gallen\nArts and Crafts with Garden State Discovery Museum\nDonut eating contest\nGingerbread House and Pumpkin decorating\nIndoor games\nA taste of some community service activities\nSnacks\nAnd More!\n\nPlease bring a non-perishable item to be donated to a food pantry\, and unexpired\, packaged candy. New toy donations and new pairs of socks are also welcome! \nPlease fill out our Waiver & Release of Liability to attend this event. We will also have copies to sign at the door. \n\n	Notice: JavaScript is required for this content.
URL:https://communitysjp.org/event/fall-festival-1119/
LOCATION:Palmyra Community Center\, 20 W Broad St\, Palmyra\, NJ\, 08065\, United States
CATEGORIES:Care Packages,CommUNITY Socials,Family Night,Fundraising,Info Booth,Other Projects
GEO:40.0032065;-75.0221873
X-APPLE-STRUCTURED-LOCATION;VALUE=URI;X-ADDRESS=Palmyra Community Center 20 W Broad St Palmyra NJ 08065 United States;X-APPLE-RADIUS=500;X-TITLE=20 W Broad St:geo:-75.0221873,40.0032065
END:VEVENT
BEGIN:VEVENT
DTSTART;TZID=America/New_York:20191106T193000
DTEND;TZID=America/New_York:20191106T210000
DTSTAMP:20260424T235728
CREATED:20171207T003021Z
LAST-MODIFIED:20190113T063504Z
UID:10000089-1573068600-1573074000@communitysjp.org
SUMMARY:Monthly Meeting
DESCRIPTION:Monthly Meeting at Wegmans in Mount Laurel. Plan to arrive by 7:20pm. Meeting will begin promptly at 7:30pm.
URL:https://communitysjp.org/event/monthly-meeting-1119/
LOCATION:Wegmans\, 2 Centerton Road\, Mount Laurel\, 08054\, United States
CATEGORIES:Monthly Meeting
GEO:39.9677985;-74.9148487
X-APPLE-STRUCTURED-LOCATION;VALUE=URI;X-ADDRESS=Wegmans 2 Centerton Road Mount Laurel 08054 United States;X-APPLE-RADIUS=500;X-TITLE=2 Centerton Road:geo:-74.9148487,39.9677985
END:VEVENT
BEGIN:VEVENT
DTSTART;TZID=America/New_York:20191020T140000
DTEND;TZID=America/New_York:20191020T163000
DTSTAMP:20260424T235728
CREATED:20171102T025953Z
LAST-MODIFIED:20190909T172917Z
UID:10000071-1571580000-1571589000@communitysjp.org
SUMMARY:CommUNITY Comfort & Care Packages
DESCRIPTION:Join us in making no-sew fleece blankets for local communities. This project engages individuals and families in a fun\, hands on activity which involves little to no skill. Adults and children (ages 9+) can collectively combat blanket shortages at this event. Children ages 12+ can prepare a blanket on their own with minimal guidance. Children ages 9-11 can prepare a blanket with help from an adult. Although this is a great way to engage children to give back to the community\, we will need an adequate number of adults to assist our youth volunteers. Each blanket will take ~1 hour to assemble in full. A $10 donation covers the expense of 1 blanket. **These blankets will be purchased in bulk by COMMUNITY SJP.** \n\nWe will also make infant care packages\, which aim to provide support to new mothers. To make a purchase for this event\, please visit SignUp Genius.\n\nTo make a monetary donation towards COMMUNITY Comfort\, please visit PayPal or Venmo. \nRecipients of these blankets include: \n\nProvidence House Domestic Violence Services of Catholic Charities\nChildren’s Hospital of Philadelphia\nWomen Against Abuse\nCathedral Kitchen\nJewish Family & Children’s Service\nJoseph’s House of Camden\nCASA of Cumberland\, Gloucester\, and Salem Counties\nVirtua Hospital\n\n\n	Notice: JavaScript is required for this content.\nNo Fields Found.
URL:https://communitysjp.org/event/community-comfort-care-packages-1019/
LOCATION:Virtua Health and Wellness (Formerly LourdesCare)\, 1 Brace Road\, Cherry Hill\, NJ\, 08034\, United States
CATEGORIES:Care Packages,CommUNITY Comfort
GEO:39.91218;-75.0094528
X-APPLE-STRUCTURED-LOCATION;VALUE=URI;X-ADDRESS=Virtua Health and Wellness (Formerly LourdesCare) 1 Brace Road Cherry Hill NJ 08034 United States;X-APPLE-RADIUS=500;X-TITLE=1 Brace Road:geo:-75.0094528,39.91218
END:VEVENT
BEGIN:VEVENT
DTSTART;TZID=America/New_York:20191002T193000
DTEND;TZID=America/New_York:20191002T210000
DTSTAMP:20260424T235728
CREATED:20171207T003021Z
LAST-MODIFIED:20190113T063444Z
UID:10000090-1570044600-1570050000@communitysjp.org
SUMMARY:Monthly Meeting
DESCRIPTION:Monthly Meeting at Wegmans in Mount Laurel. Plan to arrive by 7:20pm. Meeting will begin promptly at 7:30pm.
URL:https://communitysjp.org/event/monthly-meeting-1019/
LOCATION:Wegmans\, 2 Centerton Road\, Mount Laurel\, 08054\, United States
CATEGORIES:Monthly Meeting
GEO:39.9677985;-74.9148487
X-APPLE-STRUCTURED-LOCATION;VALUE=URI;X-ADDRESS=Wegmans 2 Centerton Road Mount Laurel 08054 United States;X-APPLE-RADIUS=500;X-TITLE=2 Centerton Road:geo:-74.9148487,39.9677985
END:VEVENT
BEGIN:VEVENT
DTSTART;TZID=America/New_York:20190922T140000
DTEND;TZID=America/New_York:20190922T160000
DTSTAMP:20260424T235728
CREATED:20170605T015216Z
LAST-MODIFIED:20190827T152149Z
UID:10000023-1569160800-1569168000@communitysjp.org
SUMMARY:CommUNITY Meals & Care Packages
DESCRIPTION:Please join us to make bagged lunches with PB&J and cheese sandwiches for the hungry! During this event\, we will also assemble care packages for patients undergoing chemotherapy and for hospitalized patients. \nTo make a monetary donation\, please visit PayPal or Venmo. \nItems to be purchased are listed on SignUp Genius for Meals\, Chemo Care Packages\, and Hospital Care Packages. \n\n	Notice: JavaScript is required for this content.\nNo Fields Found.
URL:https://communitysjp.org/event/community-meals-care-packages-0919/
LOCATION:Virtua Health and Wellness (Formerly LourdesCare)\, 1 Brace Road\, Cherry Hill\, NJ\, 08034\, United States
CATEGORIES:Care Packages,CommUNITY Meals
GEO:39.91218;-75.0094528
X-APPLE-STRUCTURED-LOCATION;VALUE=URI;X-ADDRESS=Virtua Health and Wellness (Formerly LourdesCare) 1 Brace Road Cherry Hill NJ 08034 United States;X-APPLE-RADIUS=500;X-TITLE=1 Brace Road:geo:-75.0094528,39.91218
END:VEVENT
END:VCALENDAR