BEGIN:VCALENDAR
VERSION:2.0
PRODID:-//CommUNITY SJP - ECPv6.15.20//NONSGML v1.0//EN
CALSCALE:GREGORIAN
METHOD:PUBLISH
X-ORIGINAL-URL:https://communitysjp.org
X-WR-CALDESC:Events for CommUNITY SJP
REFRESH-INTERVAL;VALUE=DURATION:PT1H
X-Robots-Tag:noindex
X-PUBLISHED-TTL:PT1H
BEGIN:VTIMEZONE
TZID:America/New_York
BEGIN:DAYLIGHT
TZOFFSETFROM:-0500
TZOFFSETTO:-0400
TZNAME:EDT
DTSTART:20160313T070000
END:DAYLIGHT
BEGIN:STANDARD
TZOFFSETFROM:-0400
TZOFFSETTO:-0500
TZNAME:EST
DTSTART:20161106T060000
END:STANDARD
BEGIN:DAYLIGHT
TZOFFSETFROM:-0500
TZOFFSETTO:-0400
TZNAME:EDT
DTSTART:20170312T070000
END:DAYLIGHT
BEGIN:STANDARD
TZOFFSETFROM:-0400
TZOFFSETTO:-0500
TZNAME:EST
DTSTART:20171105T060000
END:STANDARD
BEGIN:DAYLIGHT
TZOFFSETFROM:-0500
TZOFFSETTO:-0400
TZNAME:EDT
DTSTART:20180311T070000
END:DAYLIGHT
BEGIN:STANDARD
TZOFFSETFROM:-0400
TZOFFSETTO:-0500
TZNAME:EST
DTSTART:20181104T060000
END:STANDARD
END:VTIMEZONE
BEGIN:VEVENT
DTSTART;TZID=America/New_York:20170617T200000
DTEND;TZID=America/New_York:20170617T220000
DTSTAMP:20260424T200653
CREATED:20170610T090646Z
LAST-MODIFIED:20170614T191344Z
UID:10000050-1497729600-1497736800@communitysjp.org
SUMMARY:Host an Iftaar/Dinner!
DESCRIPTION:To learn more\, please visit our SignUp Genius Link
URL:https://communitysjp.org/event/host-an-iftaardinner-2/
LOCATION:Masjidun-Nur\, 1231 Mechanic St\, Camden\, NJ\, 08104\, United States
CATEGORIES:CommUNITY Meals
ATTACH;FMTTYPE=image/jpeg:https://communitysjp.org/wp-content/uploads/2017/06/E1573593CB02B86E21FE89A8F802C3D2_53233757.jpg
GEO:39.9307058;-75.1037049
X-APPLE-STRUCTURED-LOCATION;VALUE=URI;X-ADDRESS=Masjidun-Nur 1231 Mechanic St Camden NJ 08104 United States;X-APPLE-RADIUS=500;X-TITLE=1231 Mechanic St:geo:-75.1037049,39.9307058
END:VEVENT
END:VCALENDAR