BEGIN:VCALENDAR
VERSION:2.0
PRODID:-//CommUNITY SJP - ECPv6.15.20//NONSGML v1.0//EN
CALSCALE:GREGORIAN
METHOD:PUBLISH
X-WR-CALNAME:CommUNITY SJP
X-ORIGINAL-URL:https://communitysjp.org
X-WR-CALDESC:Events for CommUNITY SJP
REFRESH-INTERVAL;VALUE=DURATION:PT1H
X-Robots-Tag:noindex
X-PUBLISHED-TTL:PT1H
BEGIN:VTIMEZONE
TZID:America/New_York
BEGIN:DAYLIGHT
TZOFFSETFROM:-0500
TZOFFSETTO:-0400
TZNAME:EDT
DTSTART:20160313T070000
END:DAYLIGHT
BEGIN:STANDARD
TZOFFSETFROM:-0400
TZOFFSETTO:-0500
TZNAME:EST
DTSTART:20161106T060000
END:STANDARD
BEGIN:DAYLIGHT
TZOFFSETFROM:-0500
TZOFFSETTO:-0400
TZNAME:EDT
DTSTART:20170312T070000
END:DAYLIGHT
BEGIN:STANDARD
TZOFFSETFROM:-0400
TZOFFSETTO:-0500
TZNAME:EST
DTSTART:20171105T060000
END:STANDARD
BEGIN:DAYLIGHT
TZOFFSETFROM:-0500
TZOFFSETTO:-0400
TZNAME:EDT
DTSTART:20180311T070000
END:DAYLIGHT
BEGIN:STANDARD
TZOFFSETFROM:-0400
TZOFFSETTO:-0500
TZNAME:EST
DTSTART:20181104T060000
END:STANDARD
END:VTIMEZONE
BEGIN:VEVENT
DTSTART;TZID=America/New_York:20170430T173000
DTEND;TZID=America/New_York:20170430T193000
DTSTAMP:20260424T182440
CREATED:20170605T233623Z
LAST-MODIFIED:20170605T235240Z
UID:10000030-1493573400-1493580600@communitysjp.org
SUMMARY:Family Night
DESCRIPTION:Come join us for our first ever family night event! Enjoy a fun filled evening of roller skating with your family and friends!\nTickets are $10/Person (ages 3+) – this includes admission\, skate rental\, 1 slice of pizza\, & 1 drink.\nIf children under 3 wish to skate\, $3 can be paid at the door.\n**Sponsor a refugee family for an additional $10/Person!**
URL:https://communitysjp.org/event/family-night-0417/
LOCATION:Cherry Hill Skating & Fun Center\, 664 Deer Rd\, Cherry Hill\, NJ\, 08034\, United States
CATEGORIES:Family Night
GEO:39.9172968;-74.9772397
X-APPLE-STRUCTURED-LOCATION;VALUE=URI;X-ADDRESS=Cherry Hill Skating & Fun Center 664 Deer Rd Cherry Hill NJ 08034 United States;X-APPLE-RADIUS=500;X-TITLE=664 Deer Rd:geo:-74.9772397,39.9172968
END:VEVENT
END:VCALENDAR