BEGIN:VCALENDAR
VERSION:2.0
PRODID:-//CommUNITY SJP - ECPv6.15.20//NONSGML v1.0//EN
CALSCALE:GREGORIAN
METHOD:PUBLISH
X-WR-CALNAME:CommUNITY SJP
X-ORIGINAL-URL:https://communitysjp.org
X-WR-CALDESC:Events for CommUNITY SJP
REFRESH-INTERVAL;VALUE=DURATION:PT1H
X-Robots-Tag:noindex
X-PUBLISHED-TTL:PT1H
BEGIN:VTIMEZONE
TZID:America/New_York
BEGIN:DAYLIGHT
TZOFFSETFROM:-0500
TZOFFSETTO:-0400
TZNAME:EDT
DTSTART:20170312T070000
END:DAYLIGHT
BEGIN:STANDARD
TZOFFSETFROM:-0400
TZOFFSETTO:-0500
TZNAME:EST
DTSTART:20171105T060000
END:STANDARD
BEGIN:DAYLIGHT
TZOFFSETFROM:-0500
TZOFFSETTO:-0400
TZNAME:EDT
DTSTART:20180311T070000
END:DAYLIGHT
BEGIN:STANDARD
TZOFFSETFROM:-0400
TZOFFSETTO:-0500
TZNAME:EST
DTSTART:20181104T060000
END:STANDARD
BEGIN:DAYLIGHT
TZOFFSETFROM:-0500
TZOFFSETTO:-0400
TZNAME:EDT
DTSTART:20190310T070000
END:DAYLIGHT
BEGIN:STANDARD
TZOFFSETFROM:-0400
TZOFFSETTO:-0500
TZNAME:EST
DTSTART:20191103T060000
END:STANDARD
BEGIN:DAYLIGHT
TZOFFSETFROM:-0500
TZOFFSETTO:-0400
TZNAME:EDT
DTSTART:20200308T070000
END:DAYLIGHT
BEGIN:STANDARD
TZOFFSETFROM:-0400
TZOFFSETTO:-0500
TZNAME:EST
DTSTART:20201101T060000
END:STANDARD
END:VTIMEZONE
BEGIN:VEVENT
DTSTART;TZID=America/New_York:20191116T133000
DTEND;TZID=America/New_York:20191116T160000
DTSTAMP:20260424T183052
CREATED:20171102T025953Z
LAST-MODIFIED:20191102T202152Z
UID:10000070-1573911000-1573920000@communitysjp.org
SUMMARY:Fall Festival
DESCRIPTION:Join us for our second annual fall festival! 3 years have flown by – COMMUNITY SJP is thankful for its growing amount of members and dedicated volunteers since its inception in November 2016.  \nTickets: The event is free for members – annual family membership can be purchased for $40 per household. General admission tickets are on pre-sale for $8 per person (3 and under are free) until 10/31/19! Prices will increase to $10 per person after 10/31/19! Payments for tickets can be made on PayPal or Venmo. Please add the number of tickets you are paying for in the notes section. \nIf you would like to volunteer at this event\, please sign up today. We will provide service hours to all volunteers! \nWe have a lot of exciting things planned for this event. Stay tuned for updates as the event nears! \n\nWarrior Gyms modulars\nCalligraphy with Salih\nFace Painting with Mimi Gallen\nArts and Crafts with Garden State Discovery Museum\nDonut eating contest\nGingerbread House and Pumpkin decorating\nIndoor games\nA taste of some community service activities\nSnacks\nAnd More!\n\nPlease bring a non-perishable item to be donated to a food pantry\, and unexpired\, packaged candy. New toy donations and new pairs of socks are also welcome! \nPlease fill out our Waiver & Release of Liability to attend this event. We will also have copies to sign at the door. \n\n	Notice: JavaScript is required for this content.
URL:https://communitysjp.org/event/fall-festival-1119/
LOCATION:Palmyra Community Center\, 20 W Broad St\, Palmyra\, NJ\, 08065\, United States
CATEGORIES:Care Packages,CommUNITY Socials,Family Night,Fundraising,Info Booth,Other Projects
GEO:40.0032065;-75.0221873
X-APPLE-STRUCTURED-LOCATION;VALUE=URI;X-ADDRESS=Palmyra Community Center 20 W Broad St Palmyra NJ 08065 United States;X-APPLE-RADIUS=500;X-TITLE=20 W Broad St:geo:-75.0221873,40.0032065
END:VEVENT
BEGIN:VEVENT
DTSTART;TZID=America/New_York:20181117T133000
DTEND;TZID=America/New_York:20181117T160000
DTSTAMP:20260424T183052
CREATED:20171102T025953Z
LAST-MODIFIED:20181113T005731Z
UID:10000065-1542461400-1542470400@communitysjp.org
SUMMARY:Fall Festival
DESCRIPTION:2 years have flown by!! COMMUNITY SJP is thankful for its growing amount of members and dedicated volunteers since its inception in November 2016. \nJoin us for our first fall festival to celebrate our wonderful volunteers! We will have different stations of service events and games/activities. \nTickets: \nThe event is free for members! Tickets are on sale for $10 per person (3 and under are free) or a family membership can be purchased for $40 per household. Purchase your tickets by 10/31/18 to receive a free raffle ticket! Payments for tickets can be made on PayPal or Venmo. Please add the number of tickets you are paying for in the notes section. \nActivities include gingerbread house making\, pumpkin decorating\, cupcake decorating\, a visit from the Garden State Discovery Center\, a Kid Fit obstacle course\, discounted Sky Zone tickets\, a calligrapher\, games\, face painting\, lunch\, and more! \nPlease bring a non-perishable item to be donated to a food pantry\, and unexpired\, packaged candy. New toy donations and winter clothing donations are also welcome. Each item donated will get you a raffle ticket! \n\n	Notice: JavaScript is required for this content.\nNo Fields Found.
URL:https://communitysjp.org/event/fall-festival-1118/
LOCATION:Palmyra Community Center\, 20 W Broad St\, Palmyra\, NJ\, 08065\, United States
CATEGORIES:Care Packages,Family Night,Fundraising,Info Booth,Other Projects
GEO:40.0032065;-75.0221873
X-APPLE-STRUCTURED-LOCATION;VALUE=URI;X-ADDRESS=Palmyra Community Center 20 W Broad St Palmyra NJ 08065 United States;X-APPLE-RADIUS=500;X-TITLE=20 W Broad St:geo:-75.0221873,40.0032065
END:VEVENT
END:VCALENDAR