BEGIN:VCALENDAR
VERSION:2.0
PRODID:-//CommUNITY SJP - ECPv6.15.20//NONSGML v1.0//EN
CALSCALE:GREGORIAN
METHOD:PUBLISH
X-WR-CALNAME:CommUNITY SJP
X-ORIGINAL-URL:https://communitysjp.org
X-WR-CALDESC:Events for CommUNITY SJP
REFRESH-INTERVAL;VALUE=DURATION:PT1H
X-Robots-Tag:noindex
X-PUBLISHED-TTL:PT1H
BEGIN:VTIMEZONE
TZID:America/New_York
BEGIN:DAYLIGHT
TZOFFSETFROM:-0500
TZOFFSETTO:-0400
TZNAME:EDT
DTSTART:20160313T070000
END:DAYLIGHT
BEGIN:STANDARD
TZOFFSETFROM:-0400
TZOFFSETTO:-0500
TZNAME:EST
DTSTART:20161106T060000
END:STANDARD
BEGIN:DAYLIGHT
TZOFFSETFROM:-0500
TZOFFSETTO:-0400
TZNAME:EDT
DTSTART:20170312T070000
END:DAYLIGHT
BEGIN:STANDARD
TZOFFSETFROM:-0400
TZOFFSETTO:-0500
TZNAME:EST
DTSTART:20171105T060000
END:STANDARD
BEGIN:DAYLIGHT
TZOFFSETFROM:-0500
TZOFFSETTO:-0400
TZNAME:EDT
DTSTART:20180311T070000
END:DAYLIGHT
BEGIN:STANDARD
TZOFFSETFROM:-0400
TZOFFSETTO:-0500
TZNAME:EST
DTSTART:20181104T060000
END:STANDARD
BEGIN:DAYLIGHT
TZOFFSETFROM:-0500
TZOFFSETTO:-0400
TZNAME:EDT
DTSTART:20190310T070000
END:DAYLIGHT
BEGIN:STANDARD
TZOFFSETFROM:-0400
TZOFFSETTO:-0500
TZNAME:EST
DTSTART:20191103T060000
END:STANDARD
BEGIN:DAYLIGHT
TZOFFSETFROM:-0500
TZOFFSETTO:-0400
TZNAME:EDT
DTSTART:20200308T070000
END:DAYLIGHT
BEGIN:STANDARD
TZOFFSETFROM:-0400
TZOFFSETTO:-0500
TZNAME:EST
DTSTART:20201101T060000
END:STANDARD
BEGIN:DAYLIGHT
TZOFFSETFROM:-0500
TZOFFSETTO:-0400
TZNAME:EDT
DTSTART:20210314T070000
END:DAYLIGHT
BEGIN:STANDARD
TZOFFSETFROM:-0400
TZOFFSETTO:-0500
TZNAME:EST
DTSTART:20211107T060000
END:STANDARD
END:VTIMEZONE
BEGIN:VEVENT
DTSTART;TZID=America/New_York:20200108T193000
DTEND;TZID=America/New_York:20200108T210000
DTSTAMP:20260424T231342
CREATED:20171207T003021Z
LAST-MODIFIED:20200103T112641Z
UID:10000092-1578511800-1578517200@communitysjp.org
SUMMARY:Monthly Meeting
DESCRIPTION:Monthly Meeting at Wegmans in Mount Laurel. Plan to arrive by 7:20pm. Meeting will begin promptly at 7:30pm.
URL:https://communitysjp.org/event/monthly-meeting-0120/
LOCATION:Wegmans\, 2 Centerton Road\, Mount Laurel\, 08054\, United States
CATEGORIES:Monthly Meeting
GEO:39.9677985;-74.9148487
X-APPLE-STRUCTURED-LOCATION;VALUE=URI;X-ADDRESS=Wegmans 2 Centerton Road Mount Laurel 08054 United States;X-APPLE-RADIUS=500;X-TITLE=2 Centerton Road:geo:-74.9148487,39.9677985
END:VEVENT
BEGIN:VEVENT
DTSTART;TZID=America/New_York:20191204T193000
DTEND;TZID=America/New_York:20191204T210000
DTSTAMP:20260424T231342
CREATED:20171207T003021Z
LAST-MODIFIED:20190113T063530Z
UID:10000088-1575487800-1575493200@communitysjp.org
SUMMARY:Monthly Meeting
DESCRIPTION:Monthly Meeting at Wegmans in Mount Laurel. Plan to arrive by 7:20pm. Meeting will begin promptly at 7:30pm.
URL:https://communitysjp.org/event/monthly-meeting-1219/
LOCATION:Wegmans\, 2 Centerton Road\, Mount Laurel\, 08054\, United States
CATEGORIES:Monthly Meeting
GEO:39.9677985;-74.9148487
X-APPLE-STRUCTURED-LOCATION;VALUE=URI;X-ADDRESS=Wegmans 2 Centerton Road Mount Laurel 08054 United States;X-APPLE-RADIUS=500;X-TITLE=2 Centerton Road:geo:-74.9148487,39.9677985
END:VEVENT
BEGIN:VEVENT
DTSTART;TZID=America/New_York:20191106T193000
DTEND;TZID=America/New_York:20191106T210000
DTSTAMP:20260424T231342
CREATED:20171207T003021Z
LAST-MODIFIED:20190113T063504Z
UID:10000089-1573068600-1573074000@communitysjp.org
SUMMARY:Monthly Meeting
DESCRIPTION:Monthly Meeting at Wegmans in Mount Laurel. Plan to arrive by 7:20pm. Meeting will begin promptly at 7:30pm.
URL:https://communitysjp.org/event/monthly-meeting-1119/
LOCATION:Wegmans\, 2 Centerton Road\, Mount Laurel\, 08054\, United States
CATEGORIES:Monthly Meeting
GEO:39.9677985;-74.9148487
X-APPLE-STRUCTURED-LOCATION;VALUE=URI;X-ADDRESS=Wegmans 2 Centerton Road Mount Laurel 08054 United States;X-APPLE-RADIUS=500;X-TITLE=2 Centerton Road:geo:-74.9148487,39.9677985
END:VEVENT
BEGIN:VEVENT
DTSTART;TZID=America/New_York:20191002T193000
DTEND;TZID=America/New_York:20191002T210000
DTSTAMP:20260424T231342
CREATED:20171207T003021Z
LAST-MODIFIED:20190113T063444Z
UID:10000090-1570044600-1570050000@communitysjp.org
SUMMARY:Monthly Meeting
DESCRIPTION:Monthly Meeting at Wegmans in Mount Laurel. Plan to arrive by 7:20pm. Meeting will begin promptly at 7:30pm.
URL:https://communitysjp.org/event/monthly-meeting-1019/
LOCATION:Wegmans\, 2 Centerton Road\, Mount Laurel\, 08054\, United States
CATEGORIES:Monthly Meeting
GEO:39.9677985;-74.9148487
X-APPLE-STRUCTURED-LOCATION;VALUE=URI;X-ADDRESS=Wegmans 2 Centerton Road Mount Laurel 08054 United States;X-APPLE-RADIUS=500;X-TITLE=2 Centerton Road:geo:-74.9148487,39.9677985
END:VEVENT
BEGIN:VEVENT
DTSTART;TZID=America/New_York:20190904T193000
DTEND;TZID=America/New_York:20190904T210000
DTSTAMP:20260424T231342
CREATED:20171207T003021Z
LAST-MODIFIED:20190113T063433Z
UID:10000091-1567625400-1567630800@communitysjp.org
SUMMARY:Monthly Meeting
DESCRIPTION:Monthly Meeting at Wegmans in Mount Laurel. Plan to arrive by 7:20pm. Meeting will begin promptly at 7:30pm.
URL:https://communitysjp.org/event/monthly-meeting-0919/
LOCATION:Wegmans\, 2 Centerton Road\, Mount Laurel\, 08054\, United States
CATEGORIES:Monthly Meeting
GEO:39.9677985;-74.9148487
X-APPLE-STRUCTURED-LOCATION;VALUE=URI;X-ADDRESS=Wegmans 2 Centerton Road Mount Laurel 08054 United States;X-APPLE-RADIUS=500;X-TITLE=2 Centerton Road:geo:-74.9148487,39.9677985
END:VEVENT
BEGIN:VEVENT
DTSTART;TZID=America/New_York:20190807T193000
DTEND;TZID=America/New_York:20190807T210000
DTSTAMP:20260424T231342
CREATED:20171207T003021Z
LAST-MODIFIED:20190113T063339Z
UID:10000087-1565206200-1565211600@communitysjp.org
SUMMARY:Monthly Meeting
DESCRIPTION:Monthly Meeting at Wegmans in Mount Laurel. Plan to arrive by 7:20pm. Meeting will begin promptly at 7:30pm.
URL:https://communitysjp.org/event/monthly-meeting-0819/
LOCATION:Wegmans\, 2 Centerton Road\, Mount Laurel\, 08054\, United States
CATEGORIES:Monthly Meeting
GEO:39.9677985;-74.9148487
X-APPLE-STRUCTURED-LOCATION;VALUE=URI;X-ADDRESS=Wegmans 2 Centerton Road Mount Laurel 08054 United States;X-APPLE-RADIUS=500;X-TITLE=2 Centerton Road:geo:-74.9148487,39.9677985
END:VEVENT
BEGIN:VEVENT
DTSTART;TZID=America/New_York:20190709T193000
DTEND;TZID=America/New_York:20190709T210000
DTSTAMP:20260424T231342
CREATED:20190706T174221Z
LAST-MODIFIED:20190706T174251Z
UID:10000129-1562700600-1562706000@communitysjp.org
SUMMARY:Monthly Meeting
DESCRIPTION:Monthly Meeting at Wegmans in Mount Laurel. Plan to arrive by 7:20pm. Meeting will begin promptly at 7:30pm.
URL:https://communitysjp.org/event/monthly-meeting-0719/
LOCATION:Wegmans\, 2 Centerton Road\, Mount Laurel\, 08054\, United States
CATEGORIES:Monthly Meeting
GEO:39.9677985;-74.9148487
X-APPLE-STRUCTURED-LOCATION;VALUE=URI;X-ADDRESS=Wegmans 2 Centerton Road Mount Laurel 08054 United States;X-APPLE-RADIUS=500;X-TITLE=2 Centerton Road:geo:-74.9148487,39.9677985
END:VEVENT
BEGIN:VEVENT
DTSTART;TZID=America/New_York:20190612T193000
DTEND;TZID=America/New_York:20190612T210000
DTSTAMP:20260424T231342
CREATED:20171207T003021Z
LAST-MODIFIED:20190113T063234Z
UID:10000086-1560367800-1560373200@communitysjp.org
SUMMARY:Monthly Meeting
DESCRIPTION:Monthly Meeting at Wegmans in Mount Laurel. Plan to arrive by 7:20pm. Meeting will begin promptly at 7:30pm.
URL:https://communitysjp.org/event/monthly-meeting-0619/
LOCATION:Wegmans\, 2 Centerton Road\, Mount Laurel\, 08054\, United States
CATEGORIES:Monthly Meeting
GEO:39.9677985;-74.9148487
X-APPLE-STRUCTURED-LOCATION;VALUE=URI;X-ADDRESS=Wegmans 2 Centerton Road Mount Laurel 08054 United States;X-APPLE-RADIUS=500;X-TITLE=2 Centerton Road:geo:-74.9148487,39.9677985
END:VEVENT
BEGIN:VEVENT
DTSTART;TZID=America/New_York:20190501T193000
DTEND;TZID=America/New_York:20190501T210000
DTSTAMP:20260424T231342
CREATED:20171207T003021Z
LAST-MODIFIED:20190113T063205Z
UID:10000085-1556739000-1556744400@communitysjp.org
SUMMARY:Monthly Meeting
DESCRIPTION:Monthly Meeting at Wegmans in Mount Laurel. Plan to arrive by 7:20pm. Meeting will begin promptly at 7:30pm.
URL:https://communitysjp.org/event/monthly-meeting-0519/
LOCATION:Wegmans\, 2 Centerton Road\, Mount Laurel\, 08054\, United States
CATEGORIES:Monthly Meeting
GEO:39.9677985;-74.9148487
X-APPLE-STRUCTURED-LOCATION;VALUE=URI;X-ADDRESS=Wegmans 2 Centerton Road Mount Laurel 08054 United States;X-APPLE-RADIUS=500;X-TITLE=2 Centerton Road:geo:-74.9148487,39.9677985
END:VEVENT
BEGIN:VEVENT
DTSTART;TZID=America/New_York:20190403T193000
DTEND;TZID=America/New_York:20190403T210000
DTSTAMP:20260424T231342
CREATED:20171207T003021Z
LAST-MODIFIED:20190113T063141Z
UID:10000084-1554319800-1554325200@communitysjp.org
SUMMARY:Monthly Meeting
DESCRIPTION:Monthly Meeting at Wegmans in Mount Laurel. Plan to arrive by 7:20pm. Meeting will begin promptly at 7:30pm.
URL:https://communitysjp.org/event/monthly-meeting-0419/
LOCATION:Wegmans\, 2 Centerton Road\, Mount Laurel\, 08054\, United States
CATEGORIES:Monthly Meeting
GEO:39.9677985;-74.9148487
X-APPLE-STRUCTURED-LOCATION;VALUE=URI;X-ADDRESS=Wegmans 2 Centerton Road Mount Laurel 08054 United States;X-APPLE-RADIUS=500;X-TITLE=2 Centerton Road:geo:-74.9148487,39.9677985
END:VEVENT
BEGIN:VEVENT
DTSTART;TZID=America/New_York:20190306T193000
DTEND;TZID=America/New_York:20190306T210000
DTSTAMP:20260424T231342
CREATED:20171207T003021Z
LAST-MODIFIED:20190113T063121Z
UID:10000083-1551900600-1551906000@communitysjp.org
SUMMARY:Monthly Meeting
DESCRIPTION:Monthly Meeting at Wegmans in Mount Laurel. Plan to arrive by 7:20pm. Meeting will begin promptly at 7:30pm.
URL:https://communitysjp.org/event/monthly-meeting-0319/
LOCATION:Wegmans\, 2 Centerton Road\, Mount Laurel\, 08054\, United States
CATEGORIES:Monthly Meeting
GEO:39.9677985;-74.9148487
X-APPLE-STRUCTURED-LOCATION;VALUE=URI;X-ADDRESS=Wegmans 2 Centerton Road Mount Laurel 08054 United States;X-APPLE-RADIUS=500;X-TITLE=2 Centerton Road:geo:-74.9148487,39.9677985
END:VEVENT
BEGIN:VEVENT
DTSTART;TZID=America/New_York:20190206T193000
DTEND;TZID=America/New_York:20190206T210000
DTSTAMP:20260424T231342
CREATED:20171207T003021Z
LAST-MODIFIED:20190113T063115Z
UID:10000082-1549481400-1549486800@communitysjp.org
SUMMARY:Monthly Meeting
DESCRIPTION:Monthly Meeting at Wegmans in Mount Laurel. Plan to arrive by 7:20pm. Meeting will begin promptly at 7:30pm.
URL:https://communitysjp.org/event/monthly-meeting-0219/
LOCATION:Wegmans\, 2 Centerton Road\, Mount Laurel\, 08054\, United States
CATEGORIES:Monthly Meeting
GEO:39.9677985;-74.9148487
X-APPLE-STRUCTURED-LOCATION;VALUE=URI;X-ADDRESS=Wegmans 2 Centerton Road Mount Laurel 08054 United States;X-APPLE-RADIUS=500;X-TITLE=2 Centerton Road:geo:-74.9148487,39.9677985
END:VEVENT
BEGIN:VEVENT
DTSTART;TZID=America/New_York:20190109T193000
DTEND;TZID=America/New_York:20190109T210000
DTSTAMP:20260424T231342
CREATED:20171207T003021Z
LAST-MODIFIED:20190113T062549Z
UID:10000081-1547062200-1547067600@communitysjp.org
SUMMARY:Monthly Meeting
DESCRIPTION:Monthly Meeting at Wegmans in Mount Laurel. Plan to arrive by 7:20pm. Meeting will begin promptly at 7:30pm.
URL:https://communitysjp.org/event/monthly-meeting-0119/
LOCATION:Wegmans\, 2 Centerton Road\, Mount Laurel\, 08054\, United States
CATEGORIES:Monthly Meeting
GEO:39.9677985;-74.9148487
X-APPLE-STRUCTURED-LOCATION;VALUE=URI;X-ADDRESS=Wegmans 2 Centerton Road Mount Laurel 08054 United States;X-APPLE-RADIUS=500;X-TITLE=2 Centerton Road:geo:-74.9148487,39.9677985
END:VEVENT
BEGIN:VEVENT
DTSTART;TZID=America/New_York:20181205T193000
DTEND;TZID=America/New_York:20181205T213000
DTSTAMP:20260424T231342
CREATED:20171207T003021Z
LAST-MODIFIED:20180805T064955Z
UID:10000080-1544038200-1544045400@communitysjp.org
SUMMARY:Monthly Meeting
DESCRIPTION:Monthly Meeting at Wegmans in Mount Laurel. Plan to arrive by 7:20pm. Meeting will begin promptly at 7:30pm.
URL:https://communitysjp.org/event/monthly-meeting-1218/
LOCATION:Wegmans\, 2 Centerton Road\, Mount Laurel\, 08054\, United States
CATEGORIES:Monthly Meeting
GEO:39.9677985;-74.9148487
X-APPLE-STRUCTURED-LOCATION;VALUE=URI;X-ADDRESS=Wegmans 2 Centerton Road Mount Laurel 08054 United States;X-APPLE-RADIUS=500;X-TITLE=2 Centerton Road:geo:-74.9148487,39.9677985
END:VEVENT
BEGIN:VEVENT
DTSTART;TZID=America/New_York:20181107T193000
DTEND;TZID=America/New_York:20181107T213000
DTSTAMP:20260424T231342
CREATED:20171207T003021Z
LAST-MODIFIED:20180805T065016Z
UID:10000079-1541619000-1541626200@communitysjp.org
SUMMARY:Monthly Meeting
DESCRIPTION:Monthly Meeting at Wegmans in Mount Laurel. Plan to arrive by 7:20pm. Meeting will begin promptly at 7:30pm.
URL:https://communitysjp.org/event/monthly-meeting-1118/
LOCATION:Wegmans\, 2 Centerton Road\, Mount Laurel\, 08054\, United States
CATEGORIES:Monthly Meeting
GEO:39.9677985;-74.9148487
X-APPLE-STRUCTURED-LOCATION;VALUE=URI;X-ADDRESS=Wegmans 2 Centerton Road Mount Laurel 08054 United States;X-APPLE-RADIUS=500;X-TITLE=2 Centerton Road:geo:-74.9148487,39.9677985
END:VEVENT
BEGIN:VEVENT
DTSTART;TZID=America/New_York:20181003T193000
DTEND;TZID=America/New_York:20181003T213000
DTSTAMP:20260424T231342
CREATED:20171207T035821Z
LAST-MODIFIED:20180805T065026Z
UID:10000110-1538595000-1538602200@communitysjp.org
SUMMARY:Monthly Meeting
DESCRIPTION:Monthly Meeting at Wegmans in Mount Laurel. Plan to arrive by 7:20pm. Meeting will begin promptly at 7:30pm.
URL:https://communitysjp.org/event/monthly-meeting-1018/
LOCATION:Wegmans\, 2 Centerton Road\, Mount Laurel\, 08054\, United States
CATEGORIES:Monthly Meeting
GEO:39.9677985;-74.9148487
X-APPLE-STRUCTURED-LOCATION;VALUE=URI;X-ADDRESS=Wegmans 2 Centerton Road Mount Laurel 08054 United States;X-APPLE-RADIUS=500;X-TITLE=2 Centerton Road:geo:-74.9148487,39.9677985
END:VEVENT
BEGIN:VEVENT
DTSTART;TZID=America/New_York:20180905T193000
DTEND;TZID=America/New_York:20180905T213000
DTSTAMP:20260424T231342
CREATED:20171207T035821Z
LAST-MODIFIED:20180805T065035Z
UID:10000111-1536175800-1536183000@communitysjp.org
SUMMARY:Monthly Meeting
DESCRIPTION:Monthly Meeting at Wegmans in Mount Laurel. Plan to arrive by 7:20pm. Meeting will begin promptly at 7:30pm.
URL:https://communitysjp.org/event/monthly-meeting-0918/
LOCATION:Wegmans\, 2 Centerton Road\, Mount Laurel\, 08054\, United States
CATEGORIES:Monthly Meeting
GEO:39.9677985;-74.9148487
X-APPLE-STRUCTURED-LOCATION;VALUE=URI;X-ADDRESS=Wegmans 2 Centerton Road Mount Laurel 08054 United States;X-APPLE-RADIUS=500;X-TITLE=2 Centerton Road:geo:-74.9148487,39.9677985
END:VEVENT
BEGIN:VEVENT
DTSTART;TZID=America/New_York:20180801T193000
DTEND;TZID=America/New_York:20180801T213000
DTSTAMP:20260424T231342
CREATED:20171207T035821Z
LAST-MODIFIED:20180805T064451Z
UID:10000112-1533151800-1533159000@communitysjp.org
SUMMARY:Monthly Meeting
DESCRIPTION:Monthly Meeting at Wegmans in Mount Laurel. Plan to arrive by 7:20pm. Meeting will begin promptly at 7:30pm.
URL:https://communitysjp.org/event/monthly-meeting-0818/
LOCATION:Wegmans\, 2 Centerton Road\, Mount Laurel\, 08054\, United States
CATEGORIES:Monthly Meeting
GEO:39.9677985;-74.9148487
X-APPLE-STRUCTURED-LOCATION;VALUE=URI;X-ADDRESS=Wegmans 2 Centerton Road Mount Laurel 08054 United States;X-APPLE-RADIUS=500;X-TITLE=2 Centerton Road:geo:-74.9148487,39.9677985
END:VEVENT
BEGIN:VEVENT
DTSTART;TZID=America/New_York:20180711T190000
DTEND;TZID=America/New_York:20180711T210000
DTSTAMP:20260424T231342
CREATED:20171207T035821Z
LAST-MODIFIED:20171207T042215Z
UID:10000113-1531335600-1531342800@communitysjp.org
SUMMARY:Monthly Meeting
DESCRIPTION:Monthly Meeting at Wegmans in Mount Laurel. Plan to arrive by 6:45pm. Meeting will begin promptly at 7:00pm.
URL:https://communitysjp.org/event/monthly-meeting-0718/
LOCATION:Wegmans\, 2 Centerton Road\, Mount Laurel\, 08054\, United States
CATEGORIES:Monthly Meeting
GEO:39.9677985;-74.9148487
X-APPLE-STRUCTURED-LOCATION;VALUE=URI;X-ADDRESS=Wegmans 2 Centerton Road Mount Laurel 08054 United States;X-APPLE-RADIUS=500;X-TITLE=2 Centerton Road:geo:-74.9148487,39.9677985
END:VEVENT
BEGIN:VEVENT
DTSTART;TZID=America/New_York:20180606T190000
DTEND;TZID=America/New_York:20180606T210000
DTSTAMP:20260424T231342
CREATED:20171207T035821Z
LAST-MODIFIED:20171207T042455Z
UID:10000108-1528311600-1528318800@communitysjp.org
SUMMARY:Monthly Meeting
DESCRIPTION:Monthly Meeting at Wegmans in Mount Laurel. Plan to arrive by 6:45pm. Meeting will begin promptly at 7:00pm.
URL:https://communitysjp.org/event/monthly-meeting-0618/
LOCATION:Wegmans\, 2 Centerton Road\, Mount Laurel\, 08054\, United States
CATEGORIES:Monthly Meeting
GEO:39.9677985;-74.9148487
X-APPLE-STRUCTURED-LOCATION;VALUE=URI;X-ADDRESS=Wegmans 2 Centerton Road Mount Laurel 08054 United States;X-APPLE-RADIUS=500;X-TITLE=2 Centerton Road:geo:-74.9148487,39.9677985
END:VEVENT
BEGIN:VEVENT
DTSTART;TZID=America/New_York:20180509T200000
DTEND;TZID=America/New_York:20180509T220000
DTSTAMP:20260424T231342
CREATED:20171207T035821Z
LAST-MODIFIED:20180501T053800Z
UID:10000107-1525896000-1525903200@communitysjp.org
SUMMARY:Monthly Meeting
DESCRIPTION:Monthly Meeting at Wegmans in Mount Laurel. Plan to arrive by 7:45pm. Meeting will begin promptly at 8:00pm.
URL:https://communitysjp.org/event/monthly-meeting-0518/
LOCATION:Wegmans\, 2 Centerton Road\, Mount Laurel\, 08054\, United States
CATEGORIES:Monthly Meeting
GEO:39.9677985;-74.9148487
X-APPLE-STRUCTURED-LOCATION;VALUE=URI;X-ADDRESS=Wegmans 2 Centerton Road Mount Laurel 08054 United States;X-APPLE-RADIUS=500;X-TITLE=2 Centerton Road:geo:-74.9148487,39.9677985
END:VEVENT
BEGIN:VEVENT
DTSTART;TZID=America/New_York:20180404T193000
DTEND;TZID=America/New_York:20180404T213000
DTSTAMP:20260424T231342
CREATED:20171207T035821Z
LAST-MODIFIED:20180404T143338Z
UID:10000106-1522870200-1522877400@communitysjp.org
SUMMARY:Monthly Meeting
DESCRIPTION:Monthly Meeting at Wegmans in Mount Laurel. Plan to arrive by 7:15pm. Meeting will begin promptly at 7:30pm.
URL:https://communitysjp.org/event/monthly-meeting-0418/
LOCATION:Wegmans\, 2 Centerton Road\, Mount Laurel\, 08054\, United States
CATEGORIES:Monthly Meeting
GEO:39.9677985;-74.9148487
X-APPLE-STRUCTURED-LOCATION;VALUE=URI;X-ADDRESS=Wegmans 2 Centerton Road Mount Laurel 08054 United States;X-APPLE-RADIUS=500;X-TITLE=2 Centerton Road:geo:-74.9148487,39.9677985
END:VEVENT
BEGIN:VEVENT
DTSTART;TZID=America/New_York:20180307T190000
DTEND;TZID=America/New_York:20180307T210000
DTSTAMP:20260424T231342
CREATED:20171207T035821Z
LAST-MODIFIED:20171207T041819Z
UID:10000105-1520449200-1520456400@communitysjp.org
SUMMARY:Monthly Meeting
DESCRIPTION:Monthly Meeting at Wegmans in Mount Laurel. Plan to arrive by 6:45pm. Meeting will begin promptly at 7:00pm.
URL:https://communitysjp.org/event/monthly-meeting-0318/
LOCATION:Wegmans\, 2 Centerton Road\, Mount Laurel\, 08054\, United States
CATEGORIES:Monthly Meeting
GEO:39.9677985;-74.9148487
X-APPLE-STRUCTURED-LOCATION;VALUE=URI;X-ADDRESS=Wegmans 2 Centerton Road Mount Laurel 08054 United States;X-APPLE-RADIUS=500;X-TITLE=2 Centerton Road:geo:-74.9148487,39.9677985
END:VEVENT
BEGIN:VEVENT
DTSTART;TZID=America/New_York:20180212T190000
DTEND;TZID=America/New_York:20180212T210000
DTSTAMP:20260424T231342
CREATED:20171207T035821Z
LAST-MODIFIED:20180208T035645Z
UID:10000109-1518462000-1518469200@communitysjp.org
SUMMARY:Monthly Meeting
DESCRIPTION:Monthly Meeting at Wegmans in Mount Laurel. Plan to arrive by 6:45pm. Meeting will begin promptly at 7:00pm.
URL:https://communitysjp.org/event/monthly-meeting-0218/
LOCATION:Wegmans\, 2 Centerton Road\, Mount Laurel\, 08054\, United States
CATEGORIES:Monthly Meeting
GEO:39.9677985;-74.9148487
X-APPLE-STRUCTURED-LOCATION;VALUE=URI;X-ADDRESS=Wegmans 2 Centerton Road Mount Laurel 08054 United States;X-APPLE-RADIUS=500;X-TITLE=2 Centerton Road:geo:-74.9148487,39.9677985
END:VEVENT
BEGIN:VEVENT
DTSTART;TZID=America/New_York:20180110T190000
DTEND;TZID=America/New_York:20180110T210000
DTSTAMP:20260424T231342
CREATED:20171207T035821Z
LAST-MODIFIED:20180104T012900Z
UID:10000104-1515610800-1515618000@communitysjp.org
SUMMARY:Monthly Meeting
DESCRIPTION:Monthly Meeting at Wegmans in Mount Laurel. Plan to arrive by 6:45pm. Meeting will begin promptly at 7:00pm.
URL:https://communitysjp.org/event/monthly-meeting-0118/
LOCATION:Wegmans\, 2 Centerton Road\, Mount Laurel\, 08054\, United States
CATEGORIES:Monthly Meeting
GEO:39.9677985;-74.9148487
X-APPLE-STRUCTURED-LOCATION;VALUE=URI;X-ADDRESS=Wegmans 2 Centerton Road Mount Laurel 08054 United States;X-APPLE-RADIUS=500;X-TITLE=2 Centerton Road:geo:-74.9148487,39.9677985
END:VEVENT
BEGIN:VEVENT
DTSTART;TZID=America/New_York:20170906T201500
DTEND;TZID=America/New_York:20170906T223000
DTSTAMP:20260424T231342
CREATED:20170605T015114Z
LAST-MODIFIED:20170606T205324Z
UID:10000014-1504728900-1504737000@communitysjp.org
SUMMARY:Monthly Meeting
DESCRIPTION:Monthly Meeting at Wegmans in Mount Laurel. Plan to arrive by 8:15pm. Meeting will begin promptly at 8:30pm.
URL:https://communitysjp.org/event/monthly-meeting-0917/
LOCATION:Wegmans\, 2 Centerton Road\, Mount Laurel\, 08054\, United States
CATEGORIES:Monthly Meeting
GEO:39.9677985;-74.9148487
X-APPLE-STRUCTURED-LOCATION;VALUE=URI;X-ADDRESS=Wegmans 2 Centerton Road Mount Laurel 08054 United States;X-APPLE-RADIUS=500;X-TITLE=2 Centerton Road:geo:-74.9148487,39.9677985
END:VEVENT
BEGIN:VEVENT
DTSTART;TZID=America/New_York:20170809T201500
DTEND;TZID=America/New_York:20170809T223000
DTSTAMP:20260424T231342
CREATED:20170605T014953Z
LAST-MODIFIED:20170704T032725Z
UID:10000013-1502309700-1502317800@communitysjp.org
SUMMARY:Monthly Meeting
DESCRIPTION:Monthly Meeting at Wegmans in Mount Laurel. Plan to arrive by 8:15pm. Meeting will begin promptly at 8:30pm.
URL:https://communitysjp.org/event/monthly-meeting-0817/
LOCATION:Wegmans\, 2 Centerton Road\, Mount Laurel\, 08054\, United States
CATEGORIES:Monthly Meeting
GEO:39.9677985;-74.9148487
X-APPLE-STRUCTURED-LOCATION;VALUE=URI;X-ADDRESS=Wegmans 2 Centerton Road Mount Laurel 08054 United States;X-APPLE-RADIUS=500;X-TITLE=2 Centerton Road:geo:-74.9148487,39.9677985
END:VEVENT
BEGIN:VEVENT
DTSTART;TZID=America/New_York:20170629T201500
DTEND;TZID=America/New_York:20170629T223000
DTSTAMP:20260424T231342
CREATED:20170605T014745Z
LAST-MODIFIED:20170616T213452Z
UID:10000012-1498767300-1498775400@communitysjp.org
SUMMARY:Monthly Meeting
DESCRIPTION:Monthly Meeting at Wegmans in Mount Laurel. Plan to arrive by 8:15pm. Meeting will begin promptly at 8:30pm.
URL:https://communitysjp.org/event/monthly-meeting-0717/
LOCATION:Wegmans\, 2 Centerton Road\, Mount Laurel\, 08054\, United States
CATEGORIES:Monthly Meeting
GEO:39.9677985;-74.9148487
X-APPLE-STRUCTURED-LOCATION;VALUE=URI;X-ADDRESS=Wegmans 2 Centerton Road Mount Laurel 08054 United States;X-APPLE-RADIUS=500;X-TITLE=2 Centerton Road:geo:-74.9148487,39.9677985
END:VEVENT
BEGIN:VEVENT
DTSTART;TZID=America/New_York:20170503T201500
DTEND;TZID=America/New_York:20170503T223000
DTSTAMP:20260424T231342
CREATED:20170605T232945Z
LAST-MODIFIED:20170606T002024Z
UID:10000028-1493842500-1493850600@communitysjp.org
SUMMARY:Monthly Meeting
DESCRIPTION:Monthly Meeting at Wegmans in Mount Laurel. Plan to arrive by 8:15pm. Meeting will begin promptly at 8:30pm.
URL:https://communitysjp.org/event/monthly-meeting-0517/
LOCATION:Wegmans\, 2 Centerton Road\, Mount Laurel\, 08054\, United States
CATEGORIES:Monthly Meeting
GEO:39.9677985;-74.9148487
X-APPLE-STRUCTURED-LOCATION;VALUE=URI;X-ADDRESS=Wegmans 2 Centerton Road Mount Laurel 08054 United States;X-APPLE-RADIUS=500;X-TITLE=2 Centerton Road:geo:-74.9148487,39.9677985
END:VEVENT
BEGIN:VEVENT
DTSTART;TZID=America/New_York:20170405T201500
DTEND;TZID=America/New_York:20170405T223000
DTSTAMP:20260424T231342
CREATED:20170605T234324Z
LAST-MODIFIED:20170605T235305Z
UID:10000032-1491423300-1491431400@communitysjp.org
SUMMARY:Monthly Meeting
DESCRIPTION:Monthly Meeting at Wegmans in Mount Laurel. Plan to arrive by 8:15pm. Meeting will begin promptly at 8:30pm.
URL:https://communitysjp.org/event/monthly-meeting-0417/
LOCATION:Wegmans\, 2 Centerton Road\, Mount Laurel\, 08054\, United States
CATEGORIES:Monthly Meeting
GEO:39.9677985;-74.9148487
X-APPLE-STRUCTURED-LOCATION;VALUE=URI;X-ADDRESS=Wegmans 2 Centerton Road Mount Laurel 08054 United States;X-APPLE-RADIUS=500;X-TITLE=2 Centerton Road:geo:-74.9148487,39.9677985
END:VEVENT
END:VCALENDAR